BEGIN:VCALENDAR
VERSION:2.0
PRODID:-//The Neighborhood Center - ECPv6.15.20//NONSGML v1.0//EN
CALSCALE:GREGORIAN
METHOD:PUBLISH
X-ORIGINAL-URL:https://theneighborhoodcenterallentown.com
X-WR-CALDESC:Events for The Neighborhood Center
REFRESH-INTERVAL;VALUE=DURATION:PT1H
X-Robots-Tag:noindex
X-PUBLISHED-TTL:PT1H
BEGIN:VTIMEZONE
TZID:America/New_York
BEGIN:DAYLIGHT
TZOFFSETFROM:-0500
TZOFFSETTO:-0400
TZNAME:EDT
DTSTART:20240310T070000
END:DAYLIGHT
BEGIN:STANDARD
TZOFFSETFROM:-0400
TZOFFSETTO:-0500
TZNAME:EST
DTSTART:20241103T060000
END:STANDARD
BEGIN:DAYLIGHT
TZOFFSETFROM:-0500
TZOFFSETTO:-0400
TZNAME:EDT
DTSTART:20250309T070000
END:DAYLIGHT
BEGIN:STANDARD
TZOFFSETFROM:-0400
TZOFFSETTO:-0500
TZNAME:EST
DTSTART:20251102T060000
END:STANDARD
BEGIN:DAYLIGHT
TZOFFSETFROM:-0500
TZOFFSETTO:-0400
TZNAME:EDT
DTSTART:20260308T070000
END:DAYLIGHT
BEGIN:STANDARD
TZOFFSETFROM:-0400
TZOFFSETTO:-0500
TZNAME:EST
DTSTART:20261101T060000
END:STANDARD
END:VTIMEZONE
BEGIN:VEVENT
DTSTART;TZID=America/New_York:20250501T083000
DTEND;TZID=America/New_York:20250501T110000
DTSTAMP:20260420T055756
CREATED:20250409T024149Z
LAST-MODIFIED:20250519T031107Z
UID:10000967-1746088200-1746097200@theneighborhoodcenterallentown.com
SUMMARY:Early Learners Program
DESCRIPTION:The Early Learners\, Pre-K Program is designed to prepare 4-year-olds for kindergarten. This program focuses on helping children in the pre-kindergarten age group develop foundational skills necessary for success in kindergarten\, including writing and recognizing shapes\, colors\, and letters.
URL:https://theneighborhoodcenterallentown.com/event/early-learners-program/2025-05-01/
LOCATION:The Neighborhood Center\, 344 N. 7th St.\, Allentown\, PA\, 18102\, United States
CATEGORIES:Early Learners
END:VEVENT
BEGIN:VEVENT
DTSTART;TZID=America/New_York:20250501T153000
DTEND;TZID=America/New_York:20250501T173000
DTSTAMP:20260420T055756
CREATED:20250321T025122Z
LAST-MODIFIED:20250519T031133Z
UID:10000029-1746113400-1746120600@theneighborhoodcenterallentown.com
SUMMARY:Elementary Program
DESCRIPTION:Our year-round program for children in kindergarten through 5th grade focuses on engaging students with grade-level math projects and an arts program. Throughout the year\, we emphasize healthy living and making positive choices.
URL:https://theneighborhoodcenterallentown.com/event/elementary-program/2025-05-01/
LOCATION:The Neighborhood Center\, 344 N. 7th St.\, Allentown\, PA\, 18102\, United States
CATEGORIES:Elementary Program
END:VEVENT
BEGIN:VEVENT
DTSTART;TZID=America/New_York:20250501T173000
DTEND;TZID=America/New_York:20250501T190000
DTSTAMP:20260420T055756
CREATED:20250409T032600Z
LAST-MODIFIED:20250424T032630Z
UID:10001087-1746120600-1746126000@theneighborhoodcenterallentown.com
SUMMARY:Teen Program
DESCRIPTION:This program is available year-round for children and pre-teens in 6th grade and higher. We expect that their academic performance will improve through activities such as journaling\, engaging in conversations with special guest speakers\, and participating in an art program. Additionally\, participants will take part in a healthy living initiative by helping to maintain a garden and joining a cooking class.
URL:https://theneighborhoodcenterallentown.com/event/teen-program/2025-05-01/
LOCATION:The Neighborhood Center\, 344 N. 7th St.\, Allentown\, PA\, 18102\, United States
CATEGORIES:Teen Program
END:VEVENT
BEGIN:VEVENT
DTSTART;TZID=America/New_York:20250502T153000
DTEND;TZID=America/New_York:20250502T173000
DTSTAMP:20260420T055756
CREATED:20250321T025122Z
LAST-MODIFIED:20250519T031133Z
UID:10000030-1746199800-1746207000@theneighborhoodcenterallentown.com
SUMMARY:Elementary Program
DESCRIPTION:Our year-round program for children in kindergarten through 5th grade focuses on engaging students with grade-level math projects and an arts program. Throughout the year\, we emphasize healthy living and making positive choices.
URL:https://theneighborhoodcenterallentown.com/event/elementary-program/2025-05-02/
LOCATION:The Neighborhood Center\, 344 N. 7th St.\, Allentown\, PA\, 18102\, United States
CATEGORIES:Elementary Program
END:VEVENT
BEGIN:VEVENT
DTSTART;TZID=America/New_York:20250502T173000
DTEND;TZID=America/New_York:20250502T190000
DTSTAMP:20260420T055756
CREATED:20250409T032600Z
LAST-MODIFIED:20250424T032630Z
UID:10001088-1746207000-1746212400@theneighborhoodcenterallentown.com
SUMMARY:Teen Program
DESCRIPTION:This program is available year-round for children and pre-teens in 6th grade and higher. We expect that their academic performance will improve through activities such as journaling\, engaging in conversations with special guest speakers\, and participating in an art program. Additionally\, participants will take part in a healthy living initiative by helping to maintain a garden and joining a cooking class.
URL:https://theneighborhoodcenterallentown.com/event/teen-program/2025-05-02/
LOCATION:The Neighborhood Center\, 344 N. 7th St.\, Allentown\, PA\, 18102\, United States
CATEGORIES:Teen Program
END:VEVENT
BEGIN:VEVENT
DTSTART;TZID=America/New_York:20250505T083000
DTEND;TZID=America/New_York:20250505T110000
DTSTAMP:20260420T055756
CREATED:20250409T024149Z
LAST-MODIFIED:20250519T031107Z
UID:10000968-1746433800-1746442800@theneighborhoodcenterallentown.com
SUMMARY:Early Learners Program
DESCRIPTION:The Early Learners\, Pre-K Program is designed to prepare 4-year-olds for kindergarten. This program focuses on helping children in the pre-kindergarten age group develop foundational skills necessary for success in kindergarten\, including writing and recognizing shapes\, colors\, and letters.
URL:https://theneighborhoodcenterallentown.com/event/early-learners-program/2025-05-05/
LOCATION:The Neighborhood Center\, 344 N. 7th St.\, Allentown\, PA\, 18102\, United States
CATEGORIES:Early Learners
END:VEVENT
BEGIN:VEVENT
DTSTART;TZID=America/New_York:20250505T153000
DTEND;TZID=America/New_York:20250505T173000
DTSTAMP:20260420T055756
CREATED:20250321T025122Z
LAST-MODIFIED:20250519T031133Z
UID:10000031-1746459000-1746466200@theneighborhoodcenterallentown.com
SUMMARY:Elementary Program
DESCRIPTION:Our year-round program for children in kindergarten through 5th grade focuses on engaging students with grade-level math projects and an arts program. Throughout the year\, we emphasize healthy living and making positive choices.
URL:https://theneighborhoodcenterallentown.com/event/elementary-program/2025-05-05/
LOCATION:The Neighborhood Center\, 344 N. 7th St.\, Allentown\, PA\, 18102\, United States
CATEGORIES:Elementary Program
END:VEVENT
BEGIN:VEVENT
DTSTART;TZID=America/New_York:20250506T083000
DTEND;TZID=America/New_York:20250506T110000
DTSTAMP:20260420T055756
CREATED:20250409T024149Z
LAST-MODIFIED:20250519T031107Z
UID:10000969-1746520200-1746529200@theneighborhoodcenterallentown.com
SUMMARY:Early Learners Program
DESCRIPTION:The Early Learners\, Pre-K Program is designed to prepare 4-year-olds for kindergarten. This program focuses on helping children in the pre-kindergarten age group develop foundational skills necessary for success in kindergarten\, including writing and recognizing shapes\, colors\, and letters.
URL:https://theneighborhoodcenterallentown.com/event/early-learners-program/2025-05-06/
LOCATION:The Neighborhood Center\, 344 N. 7th St.\, Allentown\, PA\, 18102\, United States
CATEGORIES:Early Learners
END:VEVENT
BEGIN:VEVENT
DTSTART;TZID=America/New_York:20250506T153000
DTEND;TZID=America/New_York:20250506T173000
DTSTAMP:20260420T055756
CREATED:20250321T025122Z
LAST-MODIFIED:20250519T031133Z
UID:10000032-1746545400-1746552600@theneighborhoodcenterallentown.com
SUMMARY:Elementary Program
DESCRIPTION:Our year-round program for children in kindergarten through 5th grade focuses on engaging students with grade-level math projects and an arts program. Throughout the year\, we emphasize healthy living and making positive choices.
URL:https://theneighborhoodcenterallentown.com/event/elementary-program/2025-05-06/
LOCATION:The Neighborhood Center\, 344 N. 7th St.\, Allentown\, PA\, 18102\, United States
CATEGORIES:Elementary Program
END:VEVENT
BEGIN:VEVENT
DTSTART;TZID=America/New_York:20250507T083000
DTEND;TZID=America/New_York:20250507T110000
DTSTAMP:20260420T055756
CREATED:20250409T024149Z
LAST-MODIFIED:20250519T031107Z
UID:10000970-1746606600-1746615600@theneighborhoodcenterallentown.com
SUMMARY:Early Learners Program
DESCRIPTION:The Early Learners\, Pre-K Program is designed to prepare 4-year-olds for kindergarten. This program focuses on helping children in the pre-kindergarten age group develop foundational skills necessary for success in kindergarten\, including writing and recognizing shapes\, colors\, and letters.
URL:https://theneighborhoodcenterallentown.com/event/early-learners-program/2025-05-07/
LOCATION:The Neighborhood Center\, 344 N. 7th St.\, Allentown\, PA\, 18102\, United States
CATEGORIES:Early Learners
END:VEVENT
BEGIN:VEVENT
DTSTART;TZID=America/New_York:20250507T153000
DTEND;TZID=America/New_York:20250507T173000
DTSTAMP:20260420T055756
CREATED:20250321T025122Z
LAST-MODIFIED:20250519T031133Z
UID:10000033-1746631800-1746639000@theneighborhoodcenterallentown.com
SUMMARY:Elementary Program
DESCRIPTION:Our year-round program for children in kindergarten through 5th grade focuses on engaging students with grade-level math projects and an arts program. Throughout the year\, we emphasize healthy living and making positive choices.
URL:https://theneighborhoodcenterallentown.com/event/elementary-program/2025-05-07/
LOCATION:The Neighborhood Center\, 344 N. 7th St.\, Allentown\, PA\, 18102\, United States
CATEGORIES:Elementary Program
END:VEVENT
BEGIN:VEVENT
DTSTART;TZID=America/New_York:20250507T173000
DTEND;TZID=America/New_York:20250507T190000
DTSTAMP:20260420T055756
CREATED:20250409T032600Z
LAST-MODIFIED:20250424T032630Z
UID:10001089-1746639000-1746644400@theneighborhoodcenterallentown.com
SUMMARY:Teen Program
DESCRIPTION:This program is available year-round for children and pre-teens in 6th grade and higher. We expect that their academic performance will improve through activities such as journaling\, engaging in conversations with special guest speakers\, and participating in an art program. Additionally\, participants will take part in a healthy living initiative by helping to maintain a garden and joining a cooking class.
URL:https://theneighborhoodcenterallentown.com/event/teen-program/2025-05-07/
LOCATION:The Neighborhood Center\, 344 N. 7th St.\, Allentown\, PA\, 18102\, United States
CATEGORIES:Teen Program
END:VEVENT
BEGIN:VEVENT
DTSTART;TZID=America/New_York:20250508T083000
DTEND;TZID=America/New_York:20250508T110000
DTSTAMP:20260420T055756
CREATED:20250409T024149Z
LAST-MODIFIED:20250519T031107Z
UID:10000971-1746693000-1746702000@theneighborhoodcenterallentown.com
SUMMARY:Early Learners Program
DESCRIPTION:The Early Learners\, Pre-K Program is designed to prepare 4-year-olds for kindergarten. This program focuses on helping children in the pre-kindergarten age group develop foundational skills necessary for success in kindergarten\, including writing and recognizing shapes\, colors\, and letters.
URL:https://theneighborhoodcenterallentown.com/event/early-learners-program/2025-05-08/
LOCATION:The Neighborhood Center\, 344 N. 7th St.\, Allentown\, PA\, 18102\, United States
CATEGORIES:Early Learners
END:VEVENT
BEGIN:VEVENT
DTSTART;TZID=America/New_York:20250508T100000
DTEND;TZID=America/New_York:20250508T113000
DTSTAMP:20260420T055756
CREATED:20250415T020400Z
LAST-MODIFIED:20250519T031046Z
UID:10001145-1746698400-1746703800@theneighborhoodcenterallentown.com
SUMMARY:Early Learners Graduation
DESCRIPTION:
URL:https://theneighborhoodcenterallentown.com/event/early-learners-pre-k-graduation/
LOCATION:The Neighborhood Center\, 344 N. 7th St.\, Allentown\, PA\, 18102\, United States
CATEGORIES:Early Learners
END:VEVENT
BEGIN:VEVENT
DTSTART;TZID=America/New_York:20250508T153000
DTEND;TZID=America/New_York:20250508T173000
DTSTAMP:20260420T055756
CREATED:20250321T025122Z
LAST-MODIFIED:20250519T031133Z
UID:10000034-1746718200-1746725400@theneighborhoodcenterallentown.com
SUMMARY:Elementary Program
DESCRIPTION:Our year-round program for children in kindergarten through 5th grade focuses on engaging students with grade-level math projects and an arts program. Throughout the year\, we emphasize healthy living and making positive choices.
URL:https://theneighborhoodcenterallentown.com/event/elementary-program/2025-05-08/
LOCATION:The Neighborhood Center\, 344 N. 7th St.\, Allentown\, PA\, 18102\, United States
CATEGORIES:Elementary Program
END:VEVENT
BEGIN:VEVENT
DTSTART;TZID=America/New_York:20250508T173000
DTEND;TZID=America/New_York:20250508T190000
DTSTAMP:20260420T055756
CREATED:20250409T032600Z
LAST-MODIFIED:20250424T032630Z
UID:10001090-1746725400-1746730800@theneighborhoodcenterallentown.com
SUMMARY:Teen Program
DESCRIPTION:This program is available year-round for children and pre-teens in 6th grade and higher. We expect that their academic performance will improve through activities such as journaling\, engaging in conversations with special guest speakers\, and participating in an art program. Additionally\, participants will take part in a healthy living initiative by helping to maintain a garden and joining a cooking class.
URL:https://theneighborhoodcenterallentown.com/event/teen-program/2025-05-08/
LOCATION:The Neighborhood Center\, 344 N. 7th St.\, Allentown\, PA\, 18102\, United States
CATEGORIES:Teen Program
END:VEVENT
BEGIN:VEVENT
DTSTART;TZID=America/New_York:20250509T153000
DTEND;TZID=America/New_York:20250509T173000
DTSTAMP:20260420T055756
CREATED:20250321T025122Z
LAST-MODIFIED:20250519T031133Z
UID:10000035-1746804600-1746811800@theneighborhoodcenterallentown.com
SUMMARY:Elementary Program
DESCRIPTION:Our year-round program for children in kindergarten through 5th grade focuses on engaging students with grade-level math projects and an arts program. Throughout the year\, we emphasize healthy living and making positive choices.
URL:https://theneighborhoodcenterallentown.com/event/elementary-program/2025-05-09/
LOCATION:The Neighborhood Center\, 344 N. 7th St.\, Allentown\, PA\, 18102\, United States
CATEGORIES:Elementary Program
END:VEVENT
BEGIN:VEVENT
DTSTART;TZID=America/New_York:20250509T173000
DTEND;TZID=America/New_York:20250509T190000
DTSTAMP:20260420T055756
CREATED:20250409T032600Z
LAST-MODIFIED:20250424T032630Z
UID:10001091-1746811800-1746817200@theneighborhoodcenterallentown.com
SUMMARY:Teen Program
DESCRIPTION:This program is available year-round for children and pre-teens in 6th grade and higher. We expect that their academic performance will improve through activities such as journaling\, engaging in conversations with special guest speakers\, and participating in an art program. Additionally\, participants will take part in a healthy living initiative by helping to maintain a garden and joining a cooking class.
URL:https://theneighborhoodcenterallentown.com/event/teen-program/2025-05-09/
LOCATION:The Neighborhood Center\, 344 N. 7th St.\, Allentown\, PA\, 18102\, United States
CATEGORIES:Teen Program
END:VEVENT
BEGIN:VEVENT
DTSTART;TZID=America/New_York:20250512T153000
DTEND;TZID=America/New_York:20250512T173000
DTSTAMP:20260420T055756
CREATED:20250321T025122Z
LAST-MODIFIED:20250519T031133Z
UID:10000036-1747063800-1747071000@theneighborhoodcenterallentown.com
SUMMARY:Elementary Program
DESCRIPTION:Our year-round program for children in kindergarten through 5th grade focuses on engaging students with grade-level math projects and an arts program. Throughout the year\, we emphasize healthy living and making positive choices.
URL:https://theneighborhoodcenterallentown.com/event/elementary-program/2025-05-12/
LOCATION:The Neighborhood Center\, 344 N. 7th St.\, Allentown\, PA\, 18102\, United States
CATEGORIES:Elementary Program
END:VEVENT
BEGIN:VEVENT
DTSTART;TZID=America/New_York:20250513T153000
DTEND;TZID=America/New_York:20250513T173000
DTSTAMP:20260420T055756
CREATED:20250321T025122Z
LAST-MODIFIED:20250519T031133Z
UID:10000037-1747150200-1747157400@theneighborhoodcenterallentown.com
SUMMARY:Elementary Program
DESCRIPTION:Our year-round program for children in kindergarten through 5th grade focuses on engaging students with grade-level math projects and an arts program. Throughout the year\, we emphasize healthy living and making positive choices.
URL:https://theneighborhoodcenterallentown.com/event/elementary-program/2025-05-13/
LOCATION:The Neighborhood Center\, 344 N. 7th St.\, Allentown\, PA\, 18102\, United States
CATEGORIES:Elementary Program
END:VEVENT
BEGIN:VEVENT
DTSTART;TZID=America/New_York:20250514T153000
DTEND;TZID=America/New_York:20250514T173000
DTSTAMP:20260420T055756
CREATED:20250321T025122Z
LAST-MODIFIED:20250519T031133Z
UID:10000038-1747236600-1747243800@theneighborhoodcenterallentown.com
SUMMARY:Elementary Program
DESCRIPTION:Our year-round program for children in kindergarten through 5th grade focuses on engaging students with grade-level math projects and an arts program. Throughout the year\, we emphasize healthy living and making positive choices.
URL:https://theneighborhoodcenterallentown.com/event/elementary-program/2025-05-14/
LOCATION:The Neighborhood Center\, 344 N. 7th St.\, Allentown\, PA\, 18102\, United States
CATEGORIES:Elementary Program
END:VEVENT
BEGIN:VEVENT
DTSTART;TZID=America/New_York:20250514T173000
DTEND;TZID=America/New_York:20250514T190000
DTSTAMP:20260420T055756
CREATED:20250409T032600Z
LAST-MODIFIED:20250424T032630Z
UID:10001092-1747243800-1747249200@theneighborhoodcenterallentown.com
SUMMARY:Teen Program
DESCRIPTION:This program is available year-round for children and pre-teens in 6th grade and higher. We expect that their academic performance will improve through activities such as journaling\, engaging in conversations with special guest speakers\, and participating in an art program. Additionally\, participants will take part in a healthy living initiative by helping to maintain a garden and joining a cooking class.
URL:https://theneighborhoodcenterallentown.com/event/teen-program/2025-05-14/
LOCATION:The Neighborhood Center\, 344 N. 7th St.\, Allentown\, PA\, 18102\, United States
CATEGORIES:Teen Program
END:VEVENT
BEGIN:VEVENT
DTSTART;TZID=America/New_York:20250515T153000
DTEND;TZID=America/New_York:20250515T173000
DTSTAMP:20260420T055756
CREATED:20250321T025122Z
LAST-MODIFIED:20250519T031133Z
UID:10000039-1747323000-1747330200@theneighborhoodcenterallentown.com
SUMMARY:Elementary Program
DESCRIPTION:Our year-round program for children in kindergarten through 5th grade focuses on engaging students with grade-level math projects and an arts program. Throughout the year\, we emphasize healthy living and making positive choices.
URL:https://theneighborhoodcenterallentown.com/event/elementary-program/2025-05-15/
LOCATION:The Neighborhood Center\, 344 N. 7th St.\, Allentown\, PA\, 18102\, United States
CATEGORIES:Elementary Program
END:VEVENT
BEGIN:VEVENT
DTSTART;TZID=America/New_York:20250515T173000
DTEND;TZID=America/New_York:20250515T190000
DTSTAMP:20260420T055756
CREATED:20250409T032600Z
LAST-MODIFIED:20250424T032630Z
UID:10001093-1747330200-1747335600@theneighborhoodcenterallentown.com
SUMMARY:Teen Program
DESCRIPTION:This program is available year-round for children and pre-teens in 6th grade and higher. We expect that their academic performance will improve through activities such as journaling\, engaging in conversations with special guest speakers\, and participating in an art program. Additionally\, participants will take part in a healthy living initiative by helping to maintain a garden and joining a cooking class.
URL:https://theneighborhoodcenterallentown.com/event/teen-program/2025-05-15/
LOCATION:The Neighborhood Center\, 344 N. 7th St.\, Allentown\, PA\, 18102\, United States
CATEGORIES:Teen Program
END:VEVENT
BEGIN:VEVENT
DTSTART;TZID=America/New_York:20250516T153000
DTEND;TZID=America/New_York:20250516T173000
DTSTAMP:20260420T055756
CREATED:20250321T025122Z
LAST-MODIFIED:20250519T031133Z
UID:10000040-1747409400-1747416600@theneighborhoodcenterallentown.com
SUMMARY:Elementary Program
DESCRIPTION:Our year-round program for children in kindergarten through 5th grade focuses on engaging students with grade-level math projects and an arts program. Throughout the year\, we emphasize healthy living and making positive choices.
URL:https://theneighborhoodcenterallentown.com/event/elementary-program/2025-05-16/
LOCATION:The Neighborhood Center\, 344 N. 7th St.\, Allentown\, PA\, 18102\, United States
CATEGORIES:Elementary Program
END:VEVENT
BEGIN:VEVENT
DTSTART;TZID=America/New_York:20250516T173000
DTEND;TZID=America/New_York:20250516T190000
DTSTAMP:20260420T055756
CREATED:20250409T032600Z
LAST-MODIFIED:20250424T032630Z
UID:10001094-1747416600-1747422000@theneighborhoodcenterallentown.com
SUMMARY:Teen Program
DESCRIPTION:This program is available year-round for children and pre-teens in 6th grade and higher. We expect that their academic performance will improve through activities such as journaling\, engaging in conversations with special guest speakers\, and participating in an art program. Additionally\, participants will take part in a healthy living initiative by helping to maintain a garden and joining a cooking class.
URL:https://theneighborhoodcenterallentown.com/event/teen-program/2025-05-16/
LOCATION:The Neighborhood Center\, 344 N. 7th St.\, Allentown\, PA\, 18102\, United States
CATEGORIES:Teen Program
END:VEVENT
BEGIN:VEVENT
DTSTART;TZID=America/New_York:20250519T153000
DTEND;TZID=America/New_York:20250519T173000
DTSTAMP:20260420T055756
CREATED:20250321T025122Z
LAST-MODIFIED:20250519T031133Z
UID:10000041-1747668600-1747675800@theneighborhoodcenterallentown.com
SUMMARY:Elementary Program
DESCRIPTION:Our year-round program for children in kindergarten through 5th grade focuses on engaging students with grade-level math projects and an arts program. Throughout the year\, we emphasize healthy living and making positive choices.
URL:https://theneighborhoodcenterallentown.com/event/elementary-program/2025-05-19/
LOCATION:The Neighborhood Center\, 344 N. 7th St.\, Allentown\, PA\, 18102\, United States
CATEGORIES:Elementary Program
END:VEVENT
BEGIN:VEVENT
DTSTART;TZID=America/New_York:20250520T153000
DTEND;TZID=America/New_York:20250520T173000
DTSTAMP:20260420T055756
CREATED:20250321T025122Z
LAST-MODIFIED:20250519T031133Z
UID:10000042-1747755000-1747762200@theneighborhoodcenterallentown.com
SUMMARY:Elementary Program
DESCRIPTION:Our year-round program for children in kindergarten through 5th grade focuses on engaging students with grade-level math projects and an arts program. Throughout the year\, we emphasize healthy living and making positive choices.
URL:https://theneighborhoodcenterallentown.com/event/elementary-program/2025-05-20/
LOCATION:The Neighborhood Center\, 344 N. 7th St.\, Allentown\, PA\, 18102\, United States
CATEGORIES:Elementary Program
END:VEVENT
BEGIN:VEVENT
DTSTART;TZID=America/New_York:20250521T153000
DTEND;TZID=America/New_York:20250521T173000
DTSTAMP:20260420T055756
CREATED:20250321T025122Z
LAST-MODIFIED:20250519T031133Z
UID:10000043-1747841400-1747848600@theneighborhoodcenterallentown.com
SUMMARY:Elementary Program
DESCRIPTION:Our year-round program for children in kindergarten through 5th grade focuses on engaging students with grade-level math projects and an arts program. Throughout the year\, we emphasize healthy living and making positive choices.
URL:https://theneighborhoodcenterallentown.com/event/elementary-program/2025-05-21/
LOCATION:The Neighborhood Center\, 344 N. 7th St.\, Allentown\, PA\, 18102\, United States
CATEGORIES:Elementary Program
END:VEVENT
BEGIN:VEVENT
DTSTART;TZID=America/New_York:20250521T173000
DTEND;TZID=America/New_York:20250521T190000
DTSTAMP:20260420T055756
CREATED:20250409T032600Z
LAST-MODIFIED:20250424T032630Z
UID:10001095-1747848600-1747854000@theneighborhoodcenterallentown.com
SUMMARY:Teen Program
DESCRIPTION:This program is available year-round for children and pre-teens in 6th grade and higher. We expect that their academic performance will improve through activities such as journaling\, engaging in conversations with special guest speakers\, and participating in an art program. Additionally\, participants will take part in a healthy living initiative by helping to maintain a garden and joining a cooking class.
URL:https://theneighborhoodcenterallentown.com/event/teen-program/2025-05-21/
LOCATION:The Neighborhood Center\, 344 N. 7th St.\, Allentown\, PA\, 18102\, United States
CATEGORIES:Teen Program
END:VEVENT
END:VCALENDAR