BEGIN:VCALENDAR
VERSION:2.0
PRODID:-//The Neighborhood Center - ECPv6.15.20//NONSGML v1.0//EN
CALSCALE:GREGORIAN
METHOD:PUBLISH
X-ORIGINAL-URL:https://theneighborhoodcenterallentown.com
X-WR-CALDESC:Events for The Neighborhood Center
REFRESH-INTERVAL;VALUE=DURATION:PT1H
X-Robots-Tag:noindex
X-PUBLISHED-TTL:PT1H
BEGIN:VTIMEZONE
TZID:America/New_York
BEGIN:DAYLIGHT
TZOFFSETFROM:-0500
TZOFFSETTO:-0400
TZNAME:EDT
DTSTART:20240310T070000
END:DAYLIGHT
BEGIN:STANDARD
TZOFFSETFROM:-0400
TZOFFSETTO:-0500
TZNAME:EST
DTSTART:20241103T060000
END:STANDARD
BEGIN:DAYLIGHT
TZOFFSETFROM:-0500
TZOFFSETTO:-0400
TZNAME:EDT
DTSTART:20250309T070000
END:DAYLIGHT
BEGIN:STANDARD
TZOFFSETFROM:-0400
TZOFFSETTO:-0500
TZNAME:EST
DTSTART:20251102T060000
END:STANDARD
BEGIN:DAYLIGHT
TZOFFSETFROM:-0500
TZOFFSETTO:-0400
TZNAME:EDT
DTSTART:20260308T070000
END:DAYLIGHT
BEGIN:STANDARD
TZOFFSETFROM:-0400
TZOFFSETTO:-0500
TZNAME:EST
DTSTART:20261101T060000
END:STANDARD
END:VTIMEZONE
BEGIN:VEVENT
DTSTART;TZID=America/New_York:20250203T083000
DTEND;TZID=America/New_York:20250203T110000
DTSTAMP:20260420T124228
CREATED:20250409T024149Z
LAST-MODIFIED:20250519T031107Z
UID:10000916-1738571400-1738580400@theneighborhoodcenterallentown.com
SUMMARY:Early Learners Program
DESCRIPTION:The Early Learners\, Pre-K Program is designed to prepare 4-year-olds for kindergarten. This program focuses on helping children in the pre-kindergarten age group develop foundational skills necessary for success in kindergarten\, including writing and recognizing shapes\, colors\, and letters.
URL:https://theneighborhoodcenterallentown.com/event/early-learners-program/2025-02-03/
LOCATION:The Neighborhood Center\, 344 N. 7th St.\, Allentown\, PA\, 18102\, United States
CATEGORIES:Early Learners
END:VEVENT
BEGIN:VEVENT
DTSTART;TZID=America/New_York:20250204T083000
DTEND;TZID=America/New_York:20250204T110000
DTSTAMP:20260420T124228
CREATED:20250409T024149Z
LAST-MODIFIED:20250519T031107Z
UID:10000917-1738657800-1738666800@theneighborhoodcenterallentown.com
SUMMARY:Early Learners Program
DESCRIPTION:The Early Learners\, Pre-K Program is designed to prepare 4-year-olds for kindergarten. This program focuses on helping children in the pre-kindergarten age group develop foundational skills necessary for success in kindergarten\, including writing and recognizing shapes\, colors\, and letters.
URL:https://theneighborhoodcenterallentown.com/event/early-learners-program/2025-02-04/
LOCATION:The Neighborhood Center\, 344 N. 7th St.\, Allentown\, PA\, 18102\, United States
CATEGORIES:Early Learners
END:VEVENT
BEGIN:VEVENT
DTSTART;TZID=America/New_York:20250205T083000
DTEND;TZID=America/New_York:20250205T110000
DTSTAMP:20260420T124228
CREATED:20250409T024149Z
LAST-MODIFIED:20250519T031107Z
UID:10000918-1738744200-1738753200@theneighborhoodcenterallentown.com
SUMMARY:Early Learners Program
DESCRIPTION:The Early Learners\, Pre-K Program is designed to prepare 4-year-olds for kindergarten. This program focuses on helping children in the pre-kindergarten age group develop foundational skills necessary for success in kindergarten\, including writing and recognizing shapes\, colors\, and letters.
URL:https://theneighborhoodcenterallentown.com/event/early-learners-program/2025-02-05/
LOCATION:The Neighborhood Center\, 344 N. 7th St.\, Allentown\, PA\, 18102\, United States
CATEGORIES:Early Learners
END:VEVENT
BEGIN:VEVENT
DTSTART;TZID=America/New_York:20250205T173000
DTEND;TZID=America/New_York:20250205T190000
DTSTAMP:20260420T124228
CREATED:20250409T032600Z
LAST-MODIFIED:20250424T032630Z
UID:10001050-1738776600-1738782000@theneighborhoodcenterallentown.com
SUMMARY:Teen Program
DESCRIPTION:This program is available year-round for children and pre-teens in 6th grade and higher. We expect that their academic performance will improve through activities such as journaling\, engaging in conversations with special guest speakers\, and participating in an art program. Additionally\, participants will take part in a healthy living initiative by helping to maintain a garden and joining a cooking class.
URL:https://theneighborhoodcenterallentown.com/event/teen-program/2025-02-05/
LOCATION:The Neighborhood Center\, 344 N. 7th St.\, Allentown\, PA\, 18102\, United States
CATEGORIES:Teen Program
END:VEVENT
BEGIN:VEVENT
DTSTART;TZID=America/New_York:20250206T083000
DTEND;TZID=America/New_York:20250206T110000
DTSTAMP:20260420T124228
CREATED:20250409T024149Z
LAST-MODIFIED:20250519T031107Z
UID:10000919-1738830600-1738839600@theneighborhoodcenterallentown.com
SUMMARY:Early Learners Program
DESCRIPTION:The Early Learners\, Pre-K Program is designed to prepare 4-year-olds for kindergarten. This program focuses on helping children in the pre-kindergarten age group develop foundational skills necessary for success in kindergarten\, including writing and recognizing shapes\, colors\, and letters.
URL:https://theneighborhoodcenterallentown.com/event/early-learners-program/2025-02-06/
LOCATION:The Neighborhood Center\, 344 N. 7th St.\, Allentown\, PA\, 18102\, United States
CATEGORIES:Early Learners
END:VEVENT
BEGIN:VEVENT
DTSTART;TZID=America/New_York:20250206T173000
DTEND;TZID=America/New_York:20250206T190000
DTSTAMP:20260420T124228
CREATED:20250409T032600Z
LAST-MODIFIED:20250424T032630Z
UID:10001051-1738863000-1738868400@theneighborhoodcenterallentown.com
SUMMARY:Teen Program
DESCRIPTION:This program is available year-round for children and pre-teens in 6th grade and higher. We expect that their academic performance will improve through activities such as journaling\, engaging in conversations with special guest speakers\, and participating in an art program. Additionally\, participants will take part in a healthy living initiative by helping to maintain a garden and joining a cooking class.
URL:https://theneighborhoodcenterallentown.com/event/teen-program/2025-02-06/
LOCATION:The Neighborhood Center\, 344 N. 7th St.\, Allentown\, PA\, 18102\, United States
CATEGORIES:Teen Program
END:VEVENT
BEGIN:VEVENT
DTSTART;TZID=America/New_York:20250207T173000
DTEND;TZID=America/New_York:20250207T190000
DTSTAMP:20260420T124228
CREATED:20250409T032600Z
LAST-MODIFIED:20250424T032630Z
UID:10001052-1738949400-1738954800@theneighborhoodcenterallentown.com
SUMMARY:Teen Program
DESCRIPTION:This program is available year-round for children and pre-teens in 6th grade and higher. We expect that their academic performance will improve through activities such as journaling\, engaging in conversations with special guest speakers\, and participating in an art program. Additionally\, participants will take part in a healthy living initiative by helping to maintain a garden and joining a cooking class.
URL:https://theneighborhoodcenterallentown.com/event/teen-program/2025-02-07/
LOCATION:The Neighborhood Center\, 344 N. 7th St.\, Allentown\, PA\, 18102\, United States
CATEGORIES:Teen Program
END:VEVENT
BEGIN:VEVENT
DTSTART;TZID=America/New_York:20250210T083000
DTEND;TZID=America/New_York:20250210T110000
DTSTAMP:20260420T124228
CREATED:20250409T024149Z
LAST-MODIFIED:20250519T031107Z
UID:10000920-1739176200-1739185200@theneighborhoodcenterallentown.com
SUMMARY:Early Learners Program
DESCRIPTION:The Early Learners\, Pre-K Program is designed to prepare 4-year-olds for kindergarten. This program focuses on helping children in the pre-kindergarten age group develop foundational skills necessary for success in kindergarten\, including writing and recognizing shapes\, colors\, and letters.
URL:https://theneighborhoodcenterallentown.com/event/early-learners-program/2025-02-10/
LOCATION:The Neighborhood Center\, 344 N. 7th St.\, Allentown\, PA\, 18102\, United States
CATEGORIES:Early Learners
END:VEVENT
BEGIN:VEVENT
DTSTART;TZID=America/New_York:20250211T083000
DTEND;TZID=America/New_York:20250211T110000
DTSTAMP:20260420T124228
CREATED:20250409T024149Z
LAST-MODIFIED:20250519T031107Z
UID:10000921-1739262600-1739271600@theneighborhoodcenterallentown.com
SUMMARY:Early Learners Program
DESCRIPTION:The Early Learners\, Pre-K Program is designed to prepare 4-year-olds for kindergarten. This program focuses on helping children in the pre-kindergarten age group develop foundational skills necessary for success in kindergarten\, including writing and recognizing shapes\, colors\, and letters.
URL:https://theneighborhoodcenterallentown.com/event/early-learners-program/2025-02-11/
LOCATION:The Neighborhood Center\, 344 N. 7th St.\, Allentown\, PA\, 18102\, United States
CATEGORIES:Early Learners
END:VEVENT
BEGIN:VEVENT
DTSTART;TZID=America/New_York:20250212T083000
DTEND;TZID=America/New_York:20250212T110000
DTSTAMP:20260420T124228
CREATED:20250409T024149Z
LAST-MODIFIED:20250519T031107Z
UID:10000922-1739349000-1739358000@theneighborhoodcenterallentown.com
SUMMARY:Early Learners Program
DESCRIPTION:The Early Learners\, Pre-K Program is designed to prepare 4-year-olds for kindergarten. This program focuses on helping children in the pre-kindergarten age group develop foundational skills necessary for success in kindergarten\, including writing and recognizing shapes\, colors\, and letters.
URL:https://theneighborhoodcenterallentown.com/event/early-learners-program/2025-02-12/
LOCATION:The Neighborhood Center\, 344 N. 7th St.\, Allentown\, PA\, 18102\, United States
CATEGORIES:Early Learners
END:VEVENT
BEGIN:VEVENT
DTSTART;TZID=America/New_York:20250212T173000
DTEND;TZID=America/New_York:20250212T190000
DTSTAMP:20260420T124228
CREATED:20250409T032600Z
LAST-MODIFIED:20250424T032630Z
UID:10001053-1739381400-1739386800@theneighborhoodcenterallentown.com
SUMMARY:Teen Program
DESCRIPTION:This program is available year-round for children and pre-teens in 6th grade and higher. We expect that their academic performance will improve through activities such as journaling\, engaging in conversations with special guest speakers\, and participating in an art program. Additionally\, participants will take part in a healthy living initiative by helping to maintain a garden and joining a cooking class.
URL:https://theneighborhoodcenterallentown.com/event/teen-program/2025-02-12/
LOCATION:The Neighborhood Center\, 344 N. 7th St.\, Allentown\, PA\, 18102\, United States
CATEGORIES:Teen Program
END:VEVENT
BEGIN:VEVENT
DTSTART;TZID=America/New_York:20250213T083000
DTEND;TZID=America/New_York:20250213T110000
DTSTAMP:20260420T124228
CREATED:20250409T024149Z
LAST-MODIFIED:20250519T031107Z
UID:10000923-1739435400-1739444400@theneighborhoodcenterallentown.com
SUMMARY:Early Learners Program
DESCRIPTION:The Early Learners\, Pre-K Program is designed to prepare 4-year-olds for kindergarten. This program focuses on helping children in the pre-kindergarten age group develop foundational skills necessary for success in kindergarten\, including writing and recognizing shapes\, colors\, and letters.
URL:https://theneighborhoodcenterallentown.com/event/early-learners-program/2025-02-13/
LOCATION:The Neighborhood Center\, 344 N. 7th St.\, Allentown\, PA\, 18102\, United States
CATEGORIES:Early Learners
END:VEVENT
BEGIN:VEVENT
DTSTART;TZID=America/New_York:20250213T173000
DTEND;TZID=America/New_York:20250213T190000
DTSTAMP:20260420T124228
CREATED:20250409T032600Z
LAST-MODIFIED:20250424T032630Z
UID:10001054-1739467800-1739473200@theneighborhoodcenterallentown.com
SUMMARY:Teen Program
DESCRIPTION:This program is available year-round for children and pre-teens in 6th grade and higher. We expect that their academic performance will improve through activities such as journaling\, engaging in conversations with special guest speakers\, and participating in an art program. Additionally\, participants will take part in a healthy living initiative by helping to maintain a garden and joining a cooking class.
URL:https://theneighborhoodcenterallentown.com/event/teen-program/2025-02-13/
LOCATION:The Neighborhood Center\, 344 N. 7th St.\, Allentown\, PA\, 18102\, United States
CATEGORIES:Teen Program
END:VEVENT
BEGIN:VEVENT
DTSTART;TZID=America/New_York:20250214T173000
DTEND;TZID=America/New_York:20250214T190000
DTSTAMP:20260420T124228
CREATED:20250409T032600Z
LAST-MODIFIED:20250424T032630Z
UID:10001055-1739554200-1739559600@theneighborhoodcenterallentown.com
SUMMARY:Teen Program
DESCRIPTION:This program is available year-round for children and pre-teens in 6th grade and higher. We expect that their academic performance will improve through activities such as journaling\, engaging in conversations with special guest speakers\, and participating in an art program. Additionally\, participants will take part in a healthy living initiative by helping to maintain a garden and joining a cooking class.
URL:https://theneighborhoodcenterallentown.com/event/teen-program/2025-02-14/
LOCATION:The Neighborhood Center\, 344 N. 7th St.\, Allentown\, PA\, 18102\, United States
CATEGORIES:Teen Program
END:VEVENT
BEGIN:VEVENT
DTSTART;TZID=America/New_York:20250217T083000
DTEND;TZID=America/New_York:20250217T110000
DTSTAMP:20260420T124228
CREATED:20250409T024149Z
LAST-MODIFIED:20250519T031107Z
UID:10000924-1739781000-1739790000@theneighborhoodcenterallentown.com
SUMMARY:Early Learners Program
DESCRIPTION:The Early Learners\, Pre-K Program is designed to prepare 4-year-olds for kindergarten. This program focuses on helping children in the pre-kindergarten age group develop foundational skills necessary for success in kindergarten\, including writing and recognizing shapes\, colors\, and letters.
URL:https://theneighborhoodcenterallentown.com/event/early-learners-program/2025-02-17/
LOCATION:The Neighborhood Center\, 344 N. 7th St.\, Allentown\, PA\, 18102\, United States
CATEGORIES:Early Learners
END:VEVENT
BEGIN:VEVENT
DTSTART;TZID=America/New_York:20250218T083000
DTEND;TZID=America/New_York:20250218T110000
DTSTAMP:20260420T124228
CREATED:20250409T024149Z
LAST-MODIFIED:20250519T031107Z
UID:10000925-1739867400-1739876400@theneighborhoodcenterallentown.com
SUMMARY:Early Learners Program
DESCRIPTION:The Early Learners\, Pre-K Program is designed to prepare 4-year-olds for kindergarten. This program focuses on helping children in the pre-kindergarten age group develop foundational skills necessary for success in kindergarten\, including writing and recognizing shapes\, colors\, and letters.
URL:https://theneighborhoodcenterallentown.com/event/early-learners-program/2025-02-18/
LOCATION:The Neighborhood Center\, 344 N. 7th St.\, Allentown\, PA\, 18102\, United States
CATEGORIES:Early Learners
END:VEVENT
BEGIN:VEVENT
DTSTART;TZID=America/New_York:20250219T083000
DTEND;TZID=America/New_York:20250219T110000
DTSTAMP:20260420T124228
CREATED:20250409T024149Z
LAST-MODIFIED:20250519T031107Z
UID:10000926-1739953800-1739962800@theneighborhoodcenterallentown.com
SUMMARY:Early Learners Program
DESCRIPTION:The Early Learners\, Pre-K Program is designed to prepare 4-year-olds for kindergarten. This program focuses on helping children in the pre-kindergarten age group develop foundational skills necessary for success in kindergarten\, including writing and recognizing shapes\, colors\, and letters.
URL:https://theneighborhoodcenterallentown.com/event/early-learners-program/2025-02-19/
LOCATION:The Neighborhood Center\, 344 N. 7th St.\, Allentown\, PA\, 18102\, United States
CATEGORIES:Early Learners
END:VEVENT
BEGIN:VEVENT
DTSTART;TZID=America/New_York:20250219T173000
DTEND;TZID=America/New_York:20250219T190000
DTSTAMP:20260420T124228
CREATED:20250409T032600Z
LAST-MODIFIED:20250424T032630Z
UID:10001056-1739986200-1739991600@theneighborhoodcenterallentown.com
SUMMARY:Teen Program
DESCRIPTION:This program is available year-round for children and pre-teens in 6th grade and higher. We expect that their academic performance will improve through activities such as journaling\, engaging in conversations with special guest speakers\, and participating in an art program. Additionally\, participants will take part in a healthy living initiative by helping to maintain a garden and joining a cooking class.
URL:https://theneighborhoodcenterallentown.com/event/teen-program/2025-02-19/
LOCATION:The Neighborhood Center\, 344 N. 7th St.\, Allentown\, PA\, 18102\, United States
CATEGORIES:Teen Program
END:VEVENT
BEGIN:VEVENT
DTSTART;TZID=America/New_York:20250220T083000
DTEND;TZID=America/New_York:20250220T110000
DTSTAMP:20260420T124228
CREATED:20250409T024149Z
LAST-MODIFIED:20250519T031107Z
UID:10000927-1740040200-1740049200@theneighborhoodcenterallentown.com
SUMMARY:Early Learners Program
DESCRIPTION:The Early Learners\, Pre-K Program is designed to prepare 4-year-olds for kindergarten. This program focuses on helping children in the pre-kindergarten age group develop foundational skills necessary for success in kindergarten\, including writing and recognizing shapes\, colors\, and letters.
URL:https://theneighborhoodcenterallentown.com/event/early-learners-program/2025-02-20/
LOCATION:The Neighborhood Center\, 344 N. 7th St.\, Allentown\, PA\, 18102\, United States
CATEGORIES:Early Learners
END:VEVENT
BEGIN:VEVENT
DTSTART;TZID=America/New_York:20250220T173000
DTEND;TZID=America/New_York:20250220T190000
DTSTAMP:20260420T124228
CREATED:20250409T032600Z
LAST-MODIFIED:20250424T032630Z
UID:10001057-1740072600-1740078000@theneighborhoodcenterallentown.com
SUMMARY:Teen Program
DESCRIPTION:This program is available year-round for children and pre-teens in 6th grade and higher. We expect that their academic performance will improve through activities such as journaling\, engaging in conversations with special guest speakers\, and participating in an art program. Additionally\, participants will take part in a healthy living initiative by helping to maintain a garden and joining a cooking class.
URL:https://theneighborhoodcenterallentown.com/event/teen-program/2025-02-20/
LOCATION:The Neighborhood Center\, 344 N. 7th St.\, Allentown\, PA\, 18102\, United States
CATEGORIES:Teen Program
END:VEVENT
BEGIN:VEVENT
DTSTART;TZID=America/New_York:20250221T173000
DTEND;TZID=America/New_York:20250221T190000
DTSTAMP:20260420T124228
CREATED:20250409T032600Z
LAST-MODIFIED:20250424T032630Z
UID:10001058-1740159000-1740164400@theneighborhoodcenterallentown.com
SUMMARY:Teen Program
DESCRIPTION:This program is available year-round for children and pre-teens in 6th grade and higher. We expect that their academic performance will improve through activities such as journaling\, engaging in conversations with special guest speakers\, and participating in an art program. Additionally\, participants will take part in a healthy living initiative by helping to maintain a garden and joining a cooking class.
URL:https://theneighborhoodcenterallentown.com/event/teen-program/2025-02-21/
LOCATION:The Neighborhood Center\, 344 N. 7th St.\, Allentown\, PA\, 18102\, United States
CATEGORIES:Teen Program
END:VEVENT
BEGIN:VEVENT
DTSTART;TZID=America/New_York:20250224T083000
DTEND;TZID=America/New_York:20250224T110000
DTSTAMP:20260420T124228
CREATED:20250409T024149Z
LAST-MODIFIED:20250519T031107Z
UID:10000928-1740385800-1740394800@theneighborhoodcenterallentown.com
SUMMARY:Early Learners Program
DESCRIPTION:The Early Learners\, Pre-K Program is designed to prepare 4-year-olds for kindergarten. This program focuses on helping children in the pre-kindergarten age group develop foundational skills necessary for success in kindergarten\, including writing and recognizing shapes\, colors\, and letters.
URL:https://theneighborhoodcenterallentown.com/event/early-learners-program/2025-02-24/
LOCATION:The Neighborhood Center\, 344 N. 7th St.\, Allentown\, PA\, 18102\, United States
CATEGORIES:Early Learners
END:VEVENT
BEGIN:VEVENT
DTSTART;TZID=America/New_York:20250225T083000
DTEND;TZID=America/New_York:20250225T110000
DTSTAMP:20260420T124228
CREATED:20250409T024149Z
LAST-MODIFIED:20250519T031107Z
UID:10000929-1740472200-1740481200@theneighborhoodcenterallentown.com
SUMMARY:Early Learners Program
DESCRIPTION:The Early Learners\, Pre-K Program is designed to prepare 4-year-olds for kindergarten. This program focuses on helping children in the pre-kindergarten age group develop foundational skills necessary for success in kindergarten\, including writing and recognizing shapes\, colors\, and letters.
URL:https://theneighborhoodcenterallentown.com/event/early-learners-program/2025-02-25/
LOCATION:The Neighborhood Center\, 344 N. 7th St.\, Allentown\, PA\, 18102\, United States
CATEGORIES:Early Learners
END:VEVENT
BEGIN:VEVENT
DTSTART;TZID=America/New_York:20250226T083000
DTEND;TZID=America/New_York:20250226T110000
DTSTAMP:20260420T124228
CREATED:20250409T024149Z
LAST-MODIFIED:20250519T031107Z
UID:10000930-1740558600-1740567600@theneighborhoodcenterallentown.com
SUMMARY:Early Learners Program
DESCRIPTION:The Early Learners\, Pre-K Program is designed to prepare 4-year-olds for kindergarten. This program focuses on helping children in the pre-kindergarten age group develop foundational skills necessary for success in kindergarten\, including writing and recognizing shapes\, colors\, and letters.
URL:https://theneighborhoodcenterallentown.com/event/early-learners-program/2025-02-26/
LOCATION:The Neighborhood Center\, 344 N. 7th St.\, Allentown\, PA\, 18102\, United States
CATEGORIES:Early Learners
END:VEVENT
BEGIN:VEVENT
DTSTART;TZID=America/New_York:20250226T173000
DTEND;TZID=America/New_York:20250226T190000
DTSTAMP:20260420T124228
CREATED:20250409T032600Z
LAST-MODIFIED:20250424T032630Z
UID:10001059-1740591000-1740596400@theneighborhoodcenterallentown.com
SUMMARY:Teen Program
DESCRIPTION:This program is available year-round for children and pre-teens in 6th grade and higher. We expect that their academic performance will improve through activities such as journaling\, engaging in conversations with special guest speakers\, and participating in an art program. Additionally\, participants will take part in a healthy living initiative by helping to maintain a garden and joining a cooking class.
URL:https://theneighborhoodcenterallentown.com/event/teen-program/2025-02-26/
LOCATION:The Neighborhood Center\, 344 N. 7th St.\, Allentown\, PA\, 18102\, United States
CATEGORIES:Teen Program
END:VEVENT
BEGIN:VEVENT
DTSTART;TZID=America/New_York:20250227T083000
DTEND;TZID=America/New_York:20250227T110000
DTSTAMP:20260420T124228
CREATED:20250409T024149Z
LAST-MODIFIED:20250519T031107Z
UID:10000931-1740645000-1740654000@theneighborhoodcenterallentown.com
SUMMARY:Early Learners Program
DESCRIPTION:The Early Learners\, Pre-K Program is designed to prepare 4-year-olds for kindergarten. This program focuses on helping children in the pre-kindergarten age group develop foundational skills necessary for success in kindergarten\, including writing and recognizing shapes\, colors\, and letters.
URL:https://theneighborhoodcenterallentown.com/event/early-learners-program/2025-02-27/
LOCATION:The Neighborhood Center\, 344 N. 7th St.\, Allentown\, PA\, 18102\, United States
CATEGORIES:Early Learners
END:VEVENT
BEGIN:VEVENT
DTSTART;TZID=America/New_York:20250227T173000
DTEND;TZID=America/New_York:20250227T190000
DTSTAMP:20260420T124228
CREATED:20250409T032600Z
LAST-MODIFIED:20250424T032630Z
UID:10001060-1740677400-1740682800@theneighborhoodcenterallentown.com
SUMMARY:Teen Program
DESCRIPTION:This program is available year-round for children and pre-teens in 6th grade and higher. We expect that their academic performance will improve through activities such as journaling\, engaging in conversations with special guest speakers\, and participating in an art program. Additionally\, participants will take part in a healthy living initiative by helping to maintain a garden and joining a cooking class.
URL:https://theneighborhoodcenterallentown.com/event/teen-program/2025-02-27/
LOCATION:The Neighborhood Center\, 344 N. 7th St.\, Allentown\, PA\, 18102\, United States
CATEGORIES:Teen Program
END:VEVENT
BEGIN:VEVENT
DTSTART;TZID=America/New_York:20250228T173000
DTEND;TZID=America/New_York:20250228T190000
DTSTAMP:20260420T124228
CREATED:20250409T032600Z
LAST-MODIFIED:20250424T032630Z
UID:10001061-1740763800-1740769200@theneighborhoodcenterallentown.com
SUMMARY:Teen Program
DESCRIPTION:This program is available year-round for children and pre-teens in 6th grade and higher. We expect that their academic performance will improve through activities such as journaling\, engaging in conversations with special guest speakers\, and participating in an art program. Additionally\, participants will take part in a healthy living initiative by helping to maintain a garden and joining a cooking class.
URL:https://theneighborhoodcenterallentown.com/event/teen-program/2025-02-28/
LOCATION:The Neighborhood Center\, 344 N. 7th St.\, Allentown\, PA\, 18102\, United States
CATEGORIES:Teen Program
END:VEVENT
END:VCALENDAR