BEGIN:VCALENDAR
VERSION:2.0
PRODID:-//The Neighborhood Center - ECPv6.15.20//NONSGML v1.0//EN
CALSCALE:GREGORIAN
METHOD:PUBLISH
X-WR-CALNAME:The Neighborhood Center
X-ORIGINAL-URL:https://theneighborhoodcenterallentown.com
X-WR-CALDESC:Events for The Neighborhood Center
REFRESH-INTERVAL;VALUE=DURATION:PT1H
X-Robots-Tag:noindex
X-PUBLISHED-TTL:PT1H
BEGIN:VTIMEZONE
TZID:America/New_York
BEGIN:DAYLIGHT
TZOFFSETFROM:-0500
TZOFFSETTO:-0400
TZNAME:EDT
DTSTART:20230312T070000
END:DAYLIGHT
BEGIN:STANDARD
TZOFFSETFROM:-0400
TZOFFSETTO:-0500
TZNAME:EST
DTSTART:20231105T060000
END:STANDARD
BEGIN:DAYLIGHT
TZOFFSETFROM:-0500
TZOFFSETTO:-0400
TZNAME:EDT
DTSTART:20240310T070000
END:DAYLIGHT
BEGIN:STANDARD
TZOFFSETFROM:-0400
TZOFFSETTO:-0500
TZNAME:EST
DTSTART:20241103T060000
END:STANDARD
BEGIN:DAYLIGHT
TZOFFSETFROM:-0500
TZOFFSETTO:-0400
TZNAME:EDT
DTSTART:20250309T070000
END:DAYLIGHT
BEGIN:STANDARD
TZOFFSETFROM:-0400
TZOFFSETTO:-0500
TZNAME:EST
DTSTART:20251102T060000
END:STANDARD
END:VTIMEZONE
BEGIN:VEVENT
DTSTART;TZID=America/New_York:20241202T083000
DTEND;TZID=America/New_York:20241202T110000
DTSTAMP:20260420T173543
CREATED:20250409T024149Z
LAST-MODIFIED:20250519T031107Z
UID:10000880-1733128200-1733137200@theneighborhoodcenterallentown.com
SUMMARY:Early Learners Program
DESCRIPTION:The Early Learners\, Pre-K Program is designed to prepare 4-year-olds for kindergarten. This program focuses on helping children in the pre-kindergarten age group develop foundational skills necessary for success in kindergarten\, including writing and recognizing shapes\, colors\, and letters.
URL:https://theneighborhoodcenterallentown.com/event/early-learners-program/2024-12-02/
LOCATION:The Neighborhood Center\, 344 N. 7th St.\, Allentown\, PA\, 18102\, United States
CATEGORIES:Early Learners
END:VEVENT
BEGIN:VEVENT
DTSTART;TZID=America/New_York:20241203T083000
DTEND;TZID=America/New_York:20241203T110000
DTSTAMP:20260420T173543
CREATED:20250409T024149Z
LAST-MODIFIED:20250519T031107Z
UID:10000881-1733214600-1733223600@theneighborhoodcenterallentown.com
SUMMARY:Early Learners Program
DESCRIPTION:The Early Learners\, Pre-K Program is designed to prepare 4-year-olds for kindergarten. This program focuses on helping children in the pre-kindergarten age group develop foundational skills necessary for success in kindergarten\, including writing and recognizing shapes\, colors\, and letters.
URL:https://theneighborhoodcenterallentown.com/event/early-learners-program/2024-12-03/
LOCATION:The Neighborhood Center\, 344 N. 7th St.\, Allentown\, PA\, 18102\, United States
CATEGORIES:Early Learners
END:VEVENT
BEGIN:VEVENT
DTSTART;TZID=America/New_York:20241204T083000
DTEND;TZID=America/New_York:20241204T110000
DTSTAMP:20260420T173543
CREATED:20250409T024149Z
LAST-MODIFIED:20250519T031107Z
UID:10000882-1733301000-1733310000@theneighborhoodcenterallentown.com
SUMMARY:Early Learners Program
DESCRIPTION:The Early Learners\, Pre-K Program is designed to prepare 4-year-olds for kindergarten. This program focuses on helping children in the pre-kindergarten age group develop foundational skills necessary for success in kindergarten\, including writing and recognizing shapes\, colors\, and letters.
URL:https://theneighborhoodcenterallentown.com/event/early-learners-program/2024-12-04/
LOCATION:The Neighborhood Center\, 344 N. 7th St.\, Allentown\, PA\, 18102\, United States
CATEGORIES:Early Learners
END:VEVENT
BEGIN:VEVENT
DTSTART;TZID=America/New_York:20241204T173000
DTEND;TZID=America/New_York:20241204T190000
DTSTAMP:20260420T173543
CREATED:20250409T032600Z
LAST-MODIFIED:20250424T032630Z
UID:10001023-1733333400-1733338800@theneighborhoodcenterallentown.com
SUMMARY:Teen Program
DESCRIPTION:This program is available year-round for children and pre-teens in 6th grade and higher. We expect that their academic performance will improve through activities such as journaling\, engaging in conversations with special guest speakers\, and participating in an art program. Additionally\, participants will take part in a healthy living initiative by helping to maintain a garden and joining a cooking class.
URL:https://theneighborhoodcenterallentown.com/event/teen-program/2024-12-04/
LOCATION:The Neighborhood Center\, 344 N. 7th St.\, Allentown\, PA\, 18102\, United States
CATEGORIES:Teen Program
END:VEVENT
BEGIN:VEVENT
DTSTART;TZID=America/New_York:20241205T083000
DTEND;TZID=America/New_York:20241205T110000
DTSTAMP:20260420T173543
CREATED:20250409T024149Z
LAST-MODIFIED:20250519T031107Z
UID:10000883-1733387400-1733396400@theneighborhoodcenterallentown.com
SUMMARY:Early Learners Program
DESCRIPTION:The Early Learners\, Pre-K Program is designed to prepare 4-year-olds for kindergarten. This program focuses on helping children in the pre-kindergarten age group develop foundational skills necessary for success in kindergarten\, including writing and recognizing shapes\, colors\, and letters.
URL:https://theneighborhoodcenterallentown.com/event/early-learners-program/2024-12-05/
LOCATION:The Neighborhood Center\, 344 N. 7th St.\, Allentown\, PA\, 18102\, United States
CATEGORIES:Early Learners
END:VEVENT
BEGIN:VEVENT
DTSTART;TZID=America/New_York:20241205T173000
DTEND;TZID=America/New_York:20241205T190000
DTSTAMP:20260420T173543
CREATED:20250409T032600Z
LAST-MODIFIED:20250424T032630Z
UID:10001024-1733419800-1733425200@theneighborhoodcenterallentown.com
SUMMARY:Teen Program
DESCRIPTION:This program is available year-round for children and pre-teens in 6th grade and higher. We expect that their academic performance will improve through activities such as journaling\, engaging in conversations with special guest speakers\, and participating in an art program. Additionally\, participants will take part in a healthy living initiative by helping to maintain a garden and joining a cooking class.
URL:https://theneighborhoodcenterallentown.com/event/teen-program/2024-12-05/
LOCATION:The Neighborhood Center\, 344 N. 7th St.\, Allentown\, PA\, 18102\, United States
CATEGORIES:Teen Program
END:VEVENT
BEGIN:VEVENT
DTSTART;TZID=America/New_York:20241206T173000
DTEND;TZID=America/New_York:20241206T190000
DTSTAMP:20260420T173543
CREATED:20250409T032600Z
LAST-MODIFIED:20250424T032630Z
UID:10001025-1733506200-1733511600@theneighborhoodcenterallentown.com
SUMMARY:Teen Program
DESCRIPTION:This program is available year-round for children and pre-teens in 6th grade and higher. We expect that their academic performance will improve through activities such as journaling\, engaging in conversations with special guest speakers\, and participating in an art program. Additionally\, participants will take part in a healthy living initiative by helping to maintain a garden and joining a cooking class.
URL:https://theneighborhoodcenterallentown.com/event/teen-program/2024-12-06/
LOCATION:The Neighborhood Center\, 344 N. 7th St.\, Allentown\, PA\, 18102\, United States
CATEGORIES:Teen Program
END:VEVENT
BEGIN:VEVENT
DTSTART;TZID=America/New_York:20241209T083000
DTEND;TZID=America/New_York:20241209T110000
DTSTAMP:20260420T173543
CREATED:20250409T024149Z
LAST-MODIFIED:20250519T031107Z
UID:10000884-1733733000-1733742000@theneighborhoodcenterallentown.com
SUMMARY:Early Learners Program
DESCRIPTION:The Early Learners\, Pre-K Program is designed to prepare 4-year-olds for kindergarten. This program focuses on helping children in the pre-kindergarten age group develop foundational skills necessary for success in kindergarten\, including writing and recognizing shapes\, colors\, and letters.
URL:https://theneighborhoodcenterallentown.com/event/early-learners-program/2024-12-09/
LOCATION:The Neighborhood Center\, 344 N. 7th St.\, Allentown\, PA\, 18102\, United States
CATEGORIES:Early Learners
END:VEVENT
BEGIN:VEVENT
DTSTART;TZID=America/New_York:20241210T083000
DTEND;TZID=America/New_York:20241210T110000
DTSTAMP:20260420T173543
CREATED:20250409T024149Z
LAST-MODIFIED:20250519T031107Z
UID:10000885-1733819400-1733828400@theneighborhoodcenterallentown.com
SUMMARY:Early Learners Program
DESCRIPTION:The Early Learners\, Pre-K Program is designed to prepare 4-year-olds for kindergarten. This program focuses on helping children in the pre-kindergarten age group develop foundational skills necessary for success in kindergarten\, including writing and recognizing shapes\, colors\, and letters.
URL:https://theneighborhoodcenterallentown.com/event/early-learners-program/2024-12-10/
LOCATION:The Neighborhood Center\, 344 N. 7th St.\, Allentown\, PA\, 18102\, United States
CATEGORIES:Early Learners
END:VEVENT
BEGIN:VEVENT
DTSTART;TZID=America/New_York:20241211T083000
DTEND;TZID=America/New_York:20241211T110000
DTSTAMP:20260420T173543
CREATED:20250409T024149Z
LAST-MODIFIED:20250519T031107Z
UID:10000886-1733905800-1733914800@theneighborhoodcenterallentown.com
SUMMARY:Early Learners Program
DESCRIPTION:The Early Learners\, Pre-K Program is designed to prepare 4-year-olds for kindergarten. This program focuses on helping children in the pre-kindergarten age group develop foundational skills necessary for success in kindergarten\, including writing and recognizing shapes\, colors\, and letters.
URL:https://theneighborhoodcenterallentown.com/event/early-learners-program/2024-12-11/
LOCATION:The Neighborhood Center\, 344 N. 7th St.\, Allentown\, PA\, 18102\, United States
CATEGORIES:Early Learners
END:VEVENT
BEGIN:VEVENT
DTSTART;TZID=America/New_York:20241211T173000
DTEND;TZID=America/New_York:20241211T190000
DTSTAMP:20260420T173543
CREATED:20250409T032600Z
LAST-MODIFIED:20250424T032630Z
UID:10001026-1733938200-1733943600@theneighborhoodcenterallentown.com
SUMMARY:Teen Program
DESCRIPTION:This program is available year-round for children and pre-teens in 6th grade and higher. We expect that their academic performance will improve through activities such as journaling\, engaging in conversations with special guest speakers\, and participating in an art program. Additionally\, participants will take part in a healthy living initiative by helping to maintain a garden and joining a cooking class.
URL:https://theneighborhoodcenterallentown.com/event/teen-program/2024-12-11/
LOCATION:The Neighborhood Center\, 344 N. 7th St.\, Allentown\, PA\, 18102\, United States
CATEGORIES:Teen Program
END:VEVENT
BEGIN:VEVENT
DTSTART;TZID=America/New_York:20241212T083000
DTEND;TZID=America/New_York:20241212T110000
DTSTAMP:20260420T173543
CREATED:20250409T024149Z
LAST-MODIFIED:20250519T031107Z
UID:10000887-1733992200-1734001200@theneighborhoodcenterallentown.com
SUMMARY:Early Learners Program
DESCRIPTION:The Early Learners\, Pre-K Program is designed to prepare 4-year-olds for kindergarten. This program focuses on helping children in the pre-kindergarten age group develop foundational skills necessary for success in kindergarten\, including writing and recognizing shapes\, colors\, and letters.
URL:https://theneighborhoodcenterallentown.com/event/early-learners-program/2024-12-12/
LOCATION:The Neighborhood Center\, 344 N. 7th St.\, Allentown\, PA\, 18102\, United States
CATEGORIES:Early Learners
END:VEVENT
BEGIN:VEVENT
DTSTART;TZID=America/New_York:20241212T173000
DTEND;TZID=America/New_York:20241212T190000
DTSTAMP:20260420T173543
CREATED:20250409T032600Z
LAST-MODIFIED:20250424T032630Z
UID:10001027-1734024600-1734030000@theneighborhoodcenterallentown.com
SUMMARY:Teen Program
DESCRIPTION:This program is available year-round for children and pre-teens in 6th grade and higher. We expect that their academic performance will improve through activities such as journaling\, engaging in conversations with special guest speakers\, and participating in an art program. Additionally\, participants will take part in a healthy living initiative by helping to maintain a garden and joining a cooking class.
URL:https://theneighborhoodcenterallentown.com/event/teen-program/2024-12-12/
LOCATION:The Neighborhood Center\, 344 N. 7th St.\, Allentown\, PA\, 18102\, United States
CATEGORIES:Teen Program
END:VEVENT
BEGIN:VEVENT
DTSTART;TZID=America/New_York:20241213T173000
DTEND;TZID=America/New_York:20241213T190000
DTSTAMP:20260420T173543
CREATED:20250409T032600Z
LAST-MODIFIED:20250424T032630Z
UID:10001028-1734111000-1734116400@theneighborhoodcenterallentown.com
SUMMARY:Teen Program
DESCRIPTION:This program is available year-round for children and pre-teens in 6th grade and higher. We expect that their academic performance will improve through activities such as journaling\, engaging in conversations with special guest speakers\, and participating in an art program. Additionally\, participants will take part in a healthy living initiative by helping to maintain a garden and joining a cooking class.
URL:https://theneighborhoodcenterallentown.com/event/teen-program/2024-12-13/
LOCATION:The Neighborhood Center\, 344 N. 7th St.\, Allentown\, PA\, 18102\, United States
CATEGORIES:Teen Program
END:VEVENT
BEGIN:VEVENT
DTSTART;TZID=America/New_York:20241216T083000
DTEND;TZID=America/New_York:20241216T110000
DTSTAMP:20260420T173543
CREATED:20250409T024149Z
LAST-MODIFIED:20250519T031107Z
UID:10000888-1734337800-1734346800@theneighborhoodcenterallentown.com
SUMMARY:Early Learners Program
DESCRIPTION:The Early Learners\, Pre-K Program is designed to prepare 4-year-olds for kindergarten. This program focuses on helping children in the pre-kindergarten age group develop foundational skills necessary for success in kindergarten\, including writing and recognizing shapes\, colors\, and letters.
URL:https://theneighborhoodcenterallentown.com/event/early-learners-program/2024-12-16/
LOCATION:The Neighborhood Center\, 344 N. 7th St.\, Allentown\, PA\, 18102\, United States
CATEGORIES:Early Learners
END:VEVENT
BEGIN:VEVENT
DTSTART;TZID=America/New_York:20241217T083000
DTEND;TZID=America/New_York:20241217T110000
DTSTAMP:20260420T173543
CREATED:20250409T024149Z
LAST-MODIFIED:20250519T031107Z
UID:10000889-1734424200-1734433200@theneighborhoodcenterallentown.com
SUMMARY:Early Learners Program
DESCRIPTION:The Early Learners\, Pre-K Program is designed to prepare 4-year-olds for kindergarten. This program focuses on helping children in the pre-kindergarten age group develop foundational skills necessary for success in kindergarten\, including writing and recognizing shapes\, colors\, and letters.
URL:https://theneighborhoodcenterallentown.com/event/early-learners-program/2024-12-17/
LOCATION:The Neighborhood Center\, 344 N. 7th St.\, Allentown\, PA\, 18102\, United States
CATEGORIES:Early Learners
END:VEVENT
BEGIN:VEVENT
DTSTART;TZID=America/New_York:20241218T083000
DTEND;TZID=America/New_York:20241218T110000
DTSTAMP:20260420T173543
CREATED:20250409T024149Z
LAST-MODIFIED:20250519T031107Z
UID:10000890-1734510600-1734519600@theneighborhoodcenterallentown.com
SUMMARY:Early Learners Program
DESCRIPTION:The Early Learners\, Pre-K Program is designed to prepare 4-year-olds for kindergarten. This program focuses on helping children in the pre-kindergarten age group develop foundational skills necessary for success in kindergarten\, including writing and recognizing shapes\, colors\, and letters.
URL:https://theneighborhoodcenterallentown.com/event/early-learners-program/2024-12-18/
LOCATION:The Neighborhood Center\, 344 N. 7th St.\, Allentown\, PA\, 18102\, United States
CATEGORIES:Early Learners
END:VEVENT
BEGIN:VEVENT
DTSTART;TZID=America/New_York:20241218T173000
DTEND;TZID=America/New_York:20241218T190000
DTSTAMP:20260420T173543
CREATED:20250409T032600Z
LAST-MODIFIED:20250424T032630Z
UID:10001029-1734543000-1734548400@theneighborhoodcenterallentown.com
SUMMARY:Teen Program
DESCRIPTION:This program is available year-round for children and pre-teens in 6th grade and higher. We expect that their academic performance will improve through activities such as journaling\, engaging in conversations with special guest speakers\, and participating in an art program. Additionally\, participants will take part in a healthy living initiative by helping to maintain a garden and joining a cooking class.
URL:https://theneighborhoodcenterallentown.com/event/teen-program/2024-12-18/
LOCATION:The Neighborhood Center\, 344 N. 7th St.\, Allentown\, PA\, 18102\, United States
CATEGORIES:Teen Program
END:VEVENT
BEGIN:VEVENT
DTSTART;TZID=America/New_York:20241219T083000
DTEND;TZID=America/New_York:20241219T110000
DTSTAMP:20260420T173543
CREATED:20250409T024149Z
LAST-MODIFIED:20250519T031107Z
UID:10000891-1734597000-1734606000@theneighborhoodcenterallentown.com
SUMMARY:Early Learners Program
DESCRIPTION:The Early Learners\, Pre-K Program is designed to prepare 4-year-olds for kindergarten. This program focuses on helping children in the pre-kindergarten age group develop foundational skills necessary for success in kindergarten\, including writing and recognizing shapes\, colors\, and letters.
URL:https://theneighborhoodcenterallentown.com/event/early-learners-program/2024-12-19/
LOCATION:The Neighborhood Center\, 344 N. 7th St.\, Allentown\, PA\, 18102\, United States
CATEGORIES:Early Learners
END:VEVENT
BEGIN:VEVENT
DTSTART;TZID=America/New_York:20241219T173000
DTEND;TZID=America/New_York:20241219T190000
DTSTAMP:20260420T173543
CREATED:20250409T032600Z
LAST-MODIFIED:20250424T032630Z
UID:10001030-1734629400-1734634800@theneighborhoodcenterallentown.com
SUMMARY:Teen Program
DESCRIPTION:This program is available year-round for children and pre-teens in 6th grade and higher. We expect that their academic performance will improve through activities such as journaling\, engaging in conversations with special guest speakers\, and participating in an art program. Additionally\, participants will take part in a healthy living initiative by helping to maintain a garden and joining a cooking class.
URL:https://theneighborhoodcenterallentown.com/event/teen-program/2024-12-19/
LOCATION:The Neighborhood Center\, 344 N. 7th St.\, Allentown\, PA\, 18102\, United States
CATEGORIES:Teen Program
END:VEVENT
BEGIN:VEVENT
DTSTART;TZID=America/New_York:20241220T173000
DTEND;TZID=America/New_York:20241220T190000
DTSTAMP:20260420T173543
CREATED:20250409T032600Z
LAST-MODIFIED:20250424T032630Z
UID:10001031-1734715800-1734721200@theneighborhoodcenterallentown.com
SUMMARY:Teen Program
DESCRIPTION:This program is available year-round for children and pre-teens in 6th grade and higher. We expect that their academic performance will improve through activities such as journaling\, engaging in conversations with special guest speakers\, and participating in an art program. Additionally\, participants will take part in a healthy living initiative by helping to maintain a garden and joining a cooking class.
URL:https://theneighborhoodcenterallentown.com/event/teen-program/2024-12-20/
LOCATION:The Neighborhood Center\, 344 N. 7th St.\, Allentown\, PA\, 18102\, United States
CATEGORIES:Teen Program
END:VEVENT
BEGIN:VEVENT
DTSTART;TZID=America/New_York:20241223T083000
DTEND;TZID=America/New_York:20241223T110000
DTSTAMP:20260420T173543
CREATED:20250409T024149Z
LAST-MODIFIED:20250519T031107Z
UID:10000892-1734942600-1734951600@theneighborhoodcenterallentown.com
SUMMARY:Early Learners Program
DESCRIPTION:The Early Learners\, Pre-K Program is designed to prepare 4-year-olds for kindergarten. This program focuses on helping children in the pre-kindergarten age group develop foundational skills necessary for success in kindergarten\, including writing and recognizing shapes\, colors\, and letters.
URL:https://theneighborhoodcenterallentown.com/event/early-learners-program/2024-12-23/
LOCATION:The Neighborhood Center\, 344 N. 7th St.\, Allentown\, PA\, 18102\, United States
CATEGORIES:Early Learners
END:VEVENT
BEGIN:VEVENT
DTSTART;TZID=America/New_York:20241224T083000
DTEND;TZID=America/New_York:20241224T110000
DTSTAMP:20260420T173543
CREATED:20250409T024149Z
LAST-MODIFIED:20250519T031107Z
UID:10000893-1735029000-1735038000@theneighborhoodcenterallentown.com
SUMMARY:Early Learners Program
DESCRIPTION:The Early Learners\, Pre-K Program is designed to prepare 4-year-olds for kindergarten. This program focuses on helping children in the pre-kindergarten age group develop foundational skills necessary for success in kindergarten\, including writing and recognizing shapes\, colors\, and letters.
URL:https://theneighborhoodcenterallentown.com/event/early-learners-program/2024-12-24/
LOCATION:The Neighborhood Center\, 344 N. 7th St.\, Allentown\, PA\, 18102\, United States
CATEGORIES:Early Learners
END:VEVENT
BEGIN:VEVENT
DTSTART;TZID=America/New_York:20241225T083000
DTEND;TZID=America/New_York:20241225T110000
DTSTAMP:20260420T173543
CREATED:20250409T024149Z
LAST-MODIFIED:20250519T031107Z
UID:10000894-1735115400-1735124400@theneighborhoodcenterallentown.com
SUMMARY:Early Learners Program
DESCRIPTION:The Early Learners\, Pre-K Program is designed to prepare 4-year-olds for kindergarten. This program focuses on helping children in the pre-kindergarten age group develop foundational skills necessary for success in kindergarten\, including writing and recognizing shapes\, colors\, and letters.
URL:https://theneighborhoodcenterallentown.com/event/early-learners-program/2024-12-25/
LOCATION:The Neighborhood Center\, 344 N. 7th St.\, Allentown\, PA\, 18102\, United States
CATEGORIES:Early Learners
END:VEVENT
BEGIN:VEVENT
DTSTART;TZID=America/New_York:20241225T173000
DTEND;TZID=America/New_York:20241225T190000
DTSTAMP:20260420T173543
CREATED:20250409T032600Z
LAST-MODIFIED:20250424T032630Z
UID:10001032-1735147800-1735153200@theneighborhoodcenterallentown.com
SUMMARY:Teen Program
DESCRIPTION:This program is available year-round for children and pre-teens in 6th grade and higher. We expect that their academic performance will improve through activities such as journaling\, engaging in conversations with special guest speakers\, and participating in an art program. Additionally\, participants will take part in a healthy living initiative by helping to maintain a garden and joining a cooking class.
URL:https://theneighborhoodcenterallentown.com/event/teen-program/2024-12-25/
LOCATION:The Neighborhood Center\, 344 N. 7th St.\, Allentown\, PA\, 18102\, United States
CATEGORIES:Teen Program
END:VEVENT
BEGIN:VEVENT
DTSTART;TZID=America/New_York:20241226T083000
DTEND;TZID=America/New_York:20241226T110000
DTSTAMP:20260420T173543
CREATED:20250409T024149Z
LAST-MODIFIED:20250519T031107Z
UID:10000895-1735201800-1735210800@theneighborhoodcenterallentown.com
SUMMARY:Early Learners Program
DESCRIPTION:The Early Learners\, Pre-K Program is designed to prepare 4-year-olds for kindergarten. This program focuses on helping children in the pre-kindergarten age group develop foundational skills necessary for success in kindergarten\, including writing and recognizing shapes\, colors\, and letters.
URL:https://theneighborhoodcenterallentown.com/event/early-learners-program/2024-12-26/
LOCATION:The Neighborhood Center\, 344 N. 7th St.\, Allentown\, PA\, 18102\, United States
CATEGORIES:Early Learners
END:VEVENT
BEGIN:VEVENT
DTSTART;TZID=America/New_York:20241226T173000
DTEND;TZID=America/New_York:20241226T190000
DTSTAMP:20260420T173543
CREATED:20250409T032600Z
LAST-MODIFIED:20250424T032630Z
UID:10001033-1735234200-1735239600@theneighborhoodcenterallentown.com
SUMMARY:Teen Program
DESCRIPTION:This program is available year-round for children and pre-teens in 6th grade and higher. We expect that their academic performance will improve through activities such as journaling\, engaging in conversations with special guest speakers\, and participating in an art program. Additionally\, participants will take part in a healthy living initiative by helping to maintain a garden and joining a cooking class.
URL:https://theneighborhoodcenterallentown.com/event/teen-program/2024-12-26/
LOCATION:The Neighborhood Center\, 344 N. 7th St.\, Allentown\, PA\, 18102\, United States
CATEGORIES:Teen Program
END:VEVENT
BEGIN:VEVENT
DTSTART;TZID=America/New_York:20241227T173000
DTEND;TZID=America/New_York:20241227T190000
DTSTAMP:20260420T173543
CREATED:20250409T032600Z
LAST-MODIFIED:20250424T032630Z
UID:10001034-1735320600-1735326000@theneighborhoodcenterallentown.com
SUMMARY:Teen Program
DESCRIPTION:This program is available year-round for children and pre-teens in 6th grade and higher. We expect that their academic performance will improve through activities such as journaling\, engaging in conversations with special guest speakers\, and participating in an art program. Additionally\, participants will take part in a healthy living initiative by helping to maintain a garden and joining a cooking class.
URL:https://theneighborhoodcenterallentown.com/event/teen-program/2024-12-27/
LOCATION:The Neighborhood Center\, 344 N. 7th St.\, Allentown\, PA\, 18102\, United States
CATEGORIES:Teen Program
END:VEVENT
BEGIN:VEVENT
DTSTART;TZID=America/New_York:20241230T083000
DTEND;TZID=America/New_York:20241230T110000
DTSTAMP:20260420T173543
CREATED:20250409T024149Z
LAST-MODIFIED:20250519T031107Z
UID:10000896-1735547400-1735556400@theneighborhoodcenterallentown.com
SUMMARY:Early Learners Program
DESCRIPTION:The Early Learners\, Pre-K Program is designed to prepare 4-year-olds for kindergarten. This program focuses on helping children in the pre-kindergarten age group develop foundational skills necessary for success in kindergarten\, including writing and recognizing shapes\, colors\, and letters.
URL:https://theneighborhoodcenterallentown.com/event/early-learners-program/2024-12-30/
LOCATION:The Neighborhood Center\, 344 N. 7th St.\, Allentown\, PA\, 18102\, United States
CATEGORIES:Early Learners
END:VEVENT
BEGIN:VEVENT
DTSTART;TZID=America/New_York:20241231T083000
DTEND;TZID=America/New_York:20241231T110000
DTSTAMP:20260420T173543
CREATED:20250409T024149Z
LAST-MODIFIED:20250519T031107Z
UID:10000897-1735633800-1735642800@theneighborhoodcenterallentown.com
SUMMARY:Early Learners Program
DESCRIPTION:The Early Learners\, Pre-K Program is designed to prepare 4-year-olds for kindergarten. This program focuses on helping children in the pre-kindergarten age group develop foundational skills necessary for success in kindergarten\, including writing and recognizing shapes\, colors\, and letters.
URL:https://theneighborhoodcenterallentown.com/event/early-learners-program/2024-12-31/
LOCATION:The Neighborhood Center\, 344 N. 7th St.\, Allentown\, PA\, 18102\, United States
CATEGORIES:Early Learners
END:VEVENT
END:VCALENDAR