BEGIN:VCALENDAR
VERSION:2.0
PRODID:-//The Neighborhood Center - ECPv6.15.20//NONSGML v1.0//EN
CALSCALE:GREGORIAN
METHOD:PUBLISH
X-WR-CALNAME:The Neighborhood Center
X-ORIGINAL-URL:https://theneighborhoodcenterallentown.com
X-WR-CALDESC:Events for The Neighborhood Center
REFRESH-INTERVAL;VALUE=DURATION:PT1H
X-Robots-Tag:noindex
X-PUBLISHED-TTL:PT1H
BEGIN:VTIMEZONE
TZID:America/New_York
BEGIN:DAYLIGHT
TZOFFSETFROM:-0500
TZOFFSETTO:-0400
TZNAME:EDT
DTSTART:20230312T070000
END:DAYLIGHT
BEGIN:STANDARD
TZOFFSETFROM:-0400
TZOFFSETTO:-0500
TZNAME:EST
DTSTART:20231105T060000
END:STANDARD
BEGIN:DAYLIGHT
TZOFFSETFROM:-0500
TZOFFSETTO:-0400
TZNAME:EDT
DTSTART:20240310T070000
END:DAYLIGHT
BEGIN:STANDARD
TZOFFSETFROM:-0400
TZOFFSETTO:-0500
TZNAME:EST
DTSTART:20241103T060000
END:STANDARD
BEGIN:DAYLIGHT
TZOFFSETFROM:-0500
TZOFFSETTO:-0400
TZNAME:EDT
DTSTART:20250309T070000
END:DAYLIGHT
BEGIN:STANDARD
TZOFFSETFROM:-0400
TZOFFSETTO:-0500
TZNAME:EST
DTSTART:20251102T060000
END:STANDARD
END:VTIMEZONE
BEGIN:VEVENT
DTSTART;TZID=America/New_York:20241101T173000
DTEND;TZID=America/New_York:20241101T190000
DTSTAMP:20260420T193246
CREATED:20250409T032600Z
LAST-MODIFIED:20250424T032630Z
UID:10001010-1730482200-1730487600@theneighborhoodcenterallentown.com
SUMMARY:Teen Program
DESCRIPTION:This program is available year-round for children and pre-teens in 6th grade and higher. We expect that their academic performance will improve through activities such as journaling\, engaging in conversations with special guest speakers\, and participating in an art program. Additionally\, participants will take part in a healthy living initiative by helping to maintain a garden and joining a cooking class.
URL:https://theneighborhoodcenterallentown.com/event/teen-program/2024-11-01/
LOCATION:The Neighborhood Center\, 344 N. 7th St.\, Allentown\, PA\, 18102\, United States
CATEGORIES:Teen Program
END:VEVENT
BEGIN:VEVENT
DTSTART;TZID=America/New_York:20241104T083000
DTEND;TZID=America/New_York:20241104T110000
DTSTAMP:20260420T193246
CREATED:20250409T024149Z
LAST-MODIFIED:20250519T031107Z
UID:10000864-1730709000-1730718000@theneighborhoodcenterallentown.com
SUMMARY:Early Learners Program
DESCRIPTION:The Early Learners\, Pre-K Program is designed to prepare 4-year-olds for kindergarten. This program focuses on helping children in the pre-kindergarten age group develop foundational skills necessary for success in kindergarten\, including writing and recognizing shapes\, colors\, and letters.
URL:https://theneighborhoodcenterallentown.com/event/early-learners-program/2024-11-04/
LOCATION:The Neighborhood Center\, 344 N. 7th St.\, Allentown\, PA\, 18102\, United States
CATEGORIES:Early Learners
END:VEVENT
BEGIN:VEVENT
DTSTART;TZID=America/New_York:20241105T083000
DTEND;TZID=America/New_York:20241105T110000
DTSTAMP:20260420T193246
CREATED:20250409T024149Z
LAST-MODIFIED:20250519T031107Z
UID:10000865-1730795400-1730804400@theneighborhoodcenterallentown.com
SUMMARY:Early Learners Program
DESCRIPTION:The Early Learners\, Pre-K Program is designed to prepare 4-year-olds for kindergarten. This program focuses on helping children in the pre-kindergarten age group develop foundational skills necessary for success in kindergarten\, including writing and recognizing shapes\, colors\, and letters.
URL:https://theneighborhoodcenterallentown.com/event/early-learners-program/2024-11-05/
LOCATION:The Neighborhood Center\, 344 N. 7th St.\, Allentown\, PA\, 18102\, United States
CATEGORIES:Early Learners
END:VEVENT
BEGIN:VEVENT
DTSTART;TZID=America/New_York:20241106T083000
DTEND;TZID=America/New_York:20241106T110000
DTSTAMP:20260420T193246
CREATED:20250409T024149Z
LAST-MODIFIED:20250519T031107Z
UID:10000866-1730881800-1730890800@theneighborhoodcenterallentown.com
SUMMARY:Early Learners Program
DESCRIPTION:The Early Learners\, Pre-K Program is designed to prepare 4-year-olds for kindergarten. This program focuses on helping children in the pre-kindergarten age group develop foundational skills necessary for success in kindergarten\, including writing and recognizing shapes\, colors\, and letters.
URL:https://theneighborhoodcenterallentown.com/event/early-learners-program/2024-11-06/
LOCATION:The Neighborhood Center\, 344 N. 7th St.\, Allentown\, PA\, 18102\, United States
CATEGORIES:Early Learners
END:VEVENT
BEGIN:VEVENT
DTSTART;TZID=America/New_York:20241106T173000
DTEND;TZID=America/New_York:20241106T190000
DTSTAMP:20260420T193246
CREATED:20250409T032600Z
LAST-MODIFIED:20250424T032630Z
UID:10001011-1730914200-1730919600@theneighborhoodcenterallentown.com
SUMMARY:Teen Program
DESCRIPTION:This program is available year-round for children and pre-teens in 6th grade and higher. We expect that their academic performance will improve through activities such as journaling\, engaging in conversations with special guest speakers\, and participating in an art program. Additionally\, participants will take part in a healthy living initiative by helping to maintain a garden and joining a cooking class.
URL:https://theneighborhoodcenterallentown.com/event/teen-program/2024-11-06/
LOCATION:The Neighborhood Center\, 344 N. 7th St.\, Allentown\, PA\, 18102\, United States
CATEGORIES:Teen Program
END:VEVENT
BEGIN:VEVENT
DTSTART;TZID=America/New_York:20241107T083000
DTEND;TZID=America/New_York:20241107T110000
DTSTAMP:20260420T193246
CREATED:20250409T024149Z
LAST-MODIFIED:20250519T031107Z
UID:10000867-1730968200-1730977200@theneighborhoodcenterallentown.com
SUMMARY:Early Learners Program
DESCRIPTION:The Early Learners\, Pre-K Program is designed to prepare 4-year-olds for kindergarten. This program focuses on helping children in the pre-kindergarten age group develop foundational skills necessary for success in kindergarten\, including writing and recognizing shapes\, colors\, and letters.
URL:https://theneighborhoodcenterallentown.com/event/early-learners-program/2024-11-07/
LOCATION:The Neighborhood Center\, 344 N. 7th St.\, Allentown\, PA\, 18102\, United States
CATEGORIES:Early Learners
END:VEVENT
BEGIN:VEVENT
DTSTART;TZID=America/New_York:20241107T173000
DTEND;TZID=America/New_York:20241107T190000
DTSTAMP:20260420T193246
CREATED:20250409T032600Z
LAST-MODIFIED:20250424T032630Z
UID:10001012-1731000600-1731006000@theneighborhoodcenterallentown.com
SUMMARY:Teen Program
DESCRIPTION:This program is available year-round for children and pre-teens in 6th grade and higher. We expect that their academic performance will improve through activities such as journaling\, engaging in conversations with special guest speakers\, and participating in an art program. Additionally\, participants will take part in a healthy living initiative by helping to maintain a garden and joining a cooking class.
URL:https://theneighborhoodcenterallentown.com/event/teen-program/2024-11-07/
LOCATION:The Neighborhood Center\, 344 N. 7th St.\, Allentown\, PA\, 18102\, United States
CATEGORIES:Teen Program
END:VEVENT
BEGIN:VEVENT
DTSTART;TZID=America/New_York:20241108T173000
DTEND;TZID=America/New_York:20241108T190000
DTSTAMP:20260420T193246
CREATED:20250409T032600Z
LAST-MODIFIED:20250424T032630Z
UID:10001013-1731087000-1731092400@theneighborhoodcenterallentown.com
SUMMARY:Teen Program
DESCRIPTION:This program is available year-round for children and pre-teens in 6th grade and higher. We expect that their academic performance will improve through activities such as journaling\, engaging in conversations with special guest speakers\, and participating in an art program. Additionally\, participants will take part in a healthy living initiative by helping to maintain a garden and joining a cooking class.
URL:https://theneighborhoodcenterallentown.com/event/teen-program/2024-11-08/
LOCATION:The Neighborhood Center\, 344 N. 7th St.\, Allentown\, PA\, 18102\, United States
CATEGORIES:Teen Program
END:VEVENT
BEGIN:VEVENT
DTSTART;TZID=America/New_York:20241111T083000
DTEND;TZID=America/New_York:20241111T110000
DTSTAMP:20260420T193246
CREATED:20250409T024149Z
LAST-MODIFIED:20250519T031107Z
UID:10000868-1731313800-1731322800@theneighborhoodcenterallentown.com
SUMMARY:Early Learners Program
DESCRIPTION:The Early Learners\, Pre-K Program is designed to prepare 4-year-olds for kindergarten. This program focuses on helping children in the pre-kindergarten age group develop foundational skills necessary for success in kindergarten\, including writing and recognizing shapes\, colors\, and letters.
URL:https://theneighborhoodcenterallentown.com/event/early-learners-program/2024-11-11/
LOCATION:The Neighborhood Center\, 344 N. 7th St.\, Allentown\, PA\, 18102\, United States
CATEGORIES:Early Learners
END:VEVENT
BEGIN:VEVENT
DTSTART;TZID=America/New_York:20241112T083000
DTEND;TZID=America/New_York:20241112T110000
DTSTAMP:20260420T193246
CREATED:20250409T024149Z
LAST-MODIFIED:20250519T031107Z
UID:10000869-1731400200-1731409200@theneighborhoodcenterallentown.com
SUMMARY:Early Learners Program
DESCRIPTION:The Early Learners\, Pre-K Program is designed to prepare 4-year-olds for kindergarten. This program focuses on helping children in the pre-kindergarten age group develop foundational skills necessary for success in kindergarten\, including writing and recognizing shapes\, colors\, and letters.
URL:https://theneighborhoodcenterallentown.com/event/early-learners-program/2024-11-12/
LOCATION:The Neighborhood Center\, 344 N. 7th St.\, Allentown\, PA\, 18102\, United States
CATEGORIES:Early Learners
END:VEVENT
BEGIN:VEVENT
DTSTART;TZID=America/New_York:20241113T083000
DTEND;TZID=America/New_York:20241113T110000
DTSTAMP:20260420T193246
CREATED:20250409T024149Z
LAST-MODIFIED:20250519T031107Z
UID:10000870-1731486600-1731495600@theneighborhoodcenterallentown.com
SUMMARY:Early Learners Program
DESCRIPTION:The Early Learners\, Pre-K Program is designed to prepare 4-year-olds for kindergarten. This program focuses on helping children in the pre-kindergarten age group develop foundational skills necessary for success in kindergarten\, including writing and recognizing shapes\, colors\, and letters.
URL:https://theneighborhoodcenterallentown.com/event/early-learners-program/2024-11-13/
LOCATION:The Neighborhood Center\, 344 N. 7th St.\, Allentown\, PA\, 18102\, United States
CATEGORIES:Early Learners
END:VEVENT
BEGIN:VEVENT
DTSTART;TZID=America/New_York:20241113T173000
DTEND;TZID=America/New_York:20241113T190000
DTSTAMP:20260420T193246
CREATED:20250409T032600Z
LAST-MODIFIED:20250424T032630Z
UID:10001014-1731519000-1731524400@theneighborhoodcenterallentown.com
SUMMARY:Teen Program
DESCRIPTION:This program is available year-round for children and pre-teens in 6th grade and higher. We expect that their academic performance will improve through activities such as journaling\, engaging in conversations with special guest speakers\, and participating in an art program. Additionally\, participants will take part in a healthy living initiative by helping to maintain a garden and joining a cooking class.
URL:https://theneighborhoodcenterallentown.com/event/teen-program/2024-11-13/
LOCATION:The Neighborhood Center\, 344 N. 7th St.\, Allentown\, PA\, 18102\, United States
CATEGORIES:Teen Program
END:VEVENT
BEGIN:VEVENT
DTSTART;TZID=America/New_York:20241114T083000
DTEND;TZID=America/New_York:20241114T110000
DTSTAMP:20260420T193246
CREATED:20250409T024149Z
LAST-MODIFIED:20250519T031107Z
UID:10000871-1731573000-1731582000@theneighborhoodcenterallentown.com
SUMMARY:Early Learners Program
DESCRIPTION:The Early Learners\, Pre-K Program is designed to prepare 4-year-olds for kindergarten. This program focuses on helping children in the pre-kindergarten age group develop foundational skills necessary for success in kindergarten\, including writing and recognizing shapes\, colors\, and letters.
URL:https://theneighborhoodcenterallentown.com/event/early-learners-program/2024-11-14/
LOCATION:The Neighborhood Center\, 344 N. 7th St.\, Allentown\, PA\, 18102\, United States
CATEGORIES:Early Learners
END:VEVENT
BEGIN:VEVENT
DTSTART;TZID=America/New_York:20241114T173000
DTEND;TZID=America/New_York:20241114T190000
DTSTAMP:20260420T193246
CREATED:20250409T032600Z
LAST-MODIFIED:20250424T032630Z
UID:10001015-1731605400-1731610800@theneighborhoodcenterallentown.com
SUMMARY:Teen Program
DESCRIPTION:This program is available year-round for children and pre-teens in 6th grade and higher. We expect that their academic performance will improve through activities such as journaling\, engaging in conversations with special guest speakers\, and participating in an art program. Additionally\, participants will take part in a healthy living initiative by helping to maintain a garden and joining a cooking class.
URL:https://theneighborhoodcenterallentown.com/event/teen-program/2024-11-14/
LOCATION:The Neighborhood Center\, 344 N. 7th St.\, Allentown\, PA\, 18102\, United States
CATEGORIES:Teen Program
END:VEVENT
BEGIN:VEVENT
DTSTART;TZID=America/New_York:20241115T173000
DTEND;TZID=America/New_York:20241115T190000
DTSTAMP:20260420T193246
CREATED:20250409T032600Z
LAST-MODIFIED:20250424T032630Z
UID:10001016-1731691800-1731697200@theneighborhoodcenterallentown.com
SUMMARY:Teen Program
DESCRIPTION:This program is available year-round for children and pre-teens in 6th grade and higher. We expect that their academic performance will improve through activities such as journaling\, engaging in conversations with special guest speakers\, and participating in an art program. Additionally\, participants will take part in a healthy living initiative by helping to maintain a garden and joining a cooking class.
URL:https://theneighborhoodcenterallentown.com/event/teen-program/2024-11-15/
LOCATION:The Neighborhood Center\, 344 N. 7th St.\, Allentown\, PA\, 18102\, United States
CATEGORIES:Teen Program
END:VEVENT
BEGIN:VEVENT
DTSTART;TZID=America/New_York:20241118T083000
DTEND;TZID=America/New_York:20241118T110000
DTSTAMP:20260420T193246
CREATED:20250409T024149Z
LAST-MODIFIED:20250519T031107Z
UID:10000872-1731918600-1731927600@theneighborhoodcenterallentown.com
SUMMARY:Early Learners Program
DESCRIPTION:The Early Learners\, Pre-K Program is designed to prepare 4-year-olds for kindergarten. This program focuses on helping children in the pre-kindergarten age group develop foundational skills necessary for success in kindergarten\, including writing and recognizing shapes\, colors\, and letters.
URL:https://theneighborhoodcenterallentown.com/event/early-learners-program/2024-11-18/
LOCATION:The Neighborhood Center\, 344 N. 7th St.\, Allentown\, PA\, 18102\, United States
CATEGORIES:Early Learners
END:VEVENT
BEGIN:VEVENT
DTSTART;TZID=America/New_York:20241119T083000
DTEND;TZID=America/New_York:20241119T110000
DTSTAMP:20260420T193246
CREATED:20250409T024149Z
LAST-MODIFIED:20250519T031107Z
UID:10000873-1732005000-1732014000@theneighborhoodcenterallentown.com
SUMMARY:Early Learners Program
DESCRIPTION:The Early Learners\, Pre-K Program is designed to prepare 4-year-olds for kindergarten. This program focuses on helping children in the pre-kindergarten age group develop foundational skills necessary for success in kindergarten\, including writing and recognizing shapes\, colors\, and letters.
URL:https://theneighborhoodcenterallentown.com/event/early-learners-program/2024-11-19/
LOCATION:The Neighborhood Center\, 344 N. 7th St.\, Allentown\, PA\, 18102\, United States
CATEGORIES:Early Learners
END:VEVENT
BEGIN:VEVENT
DTSTART;TZID=America/New_York:20241120T083000
DTEND;TZID=America/New_York:20241120T110000
DTSTAMP:20260420T193246
CREATED:20250409T024149Z
LAST-MODIFIED:20250519T031107Z
UID:10000874-1732091400-1732100400@theneighborhoodcenterallentown.com
SUMMARY:Early Learners Program
DESCRIPTION:The Early Learners\, Pre-K Program is designed to prepare 4-year-olds for kindergarten. This program focuses on helping children in the pre-kindergarten age group develop foundational skills necessary for success in kindergarten\, including writing and recognizing shapes\, colors\, and letters.
URL:https://theneighborhoodcenterallentown.com/event/early-learners-program/2024-11-20/
LOCATION:The Neighborhood Center\, 344 N. 7th St.\, Allentown\, PA\, 18102\, United States
CATEGORIES:Early Learners
END:VEVENT
BEGIN:VEVENT
DTSTART;TZID=America/New_York:20241120T173000
DTEND;TZID=America/New_York:20241120T190000
DTSTAMP:20260420T193246
CREATED:20250409T032600Z
LAST-MODIFIED:20250424T032630Z
UID:10001017-1732123800-1732129200@theneighborhoodcenterallentown.com
SUMMARY:Teen Program
DESCRIPTION:This program is available year-round for children and pre-teens in 6th grade and higher. We expect that their academic performance will improve through activities such as journaling\, engaging in conversations with special guest speakers\, and participating in an art program. Additionally\, participants will take part in a healthy living initiative by helping to maintain a garden and joining a cooking class.
URL:https://theneighborhoodcenterallentown.com/event/teen-program/2024-11-20/
LOCATION:The Neighborhood Center\, 344 N. 7th St.\, Allentown\, PA\, 18102\, United States
CATEGORIES:Teen Program
END:VEVENT
BEGIN:VEVENT
DTSTART;TZID=America/New_York:20241121T083000
DTEND;TZID=America/New_York:20241121T110000
DTSTAMP:20260420T193246
CREATED:20250409T024149Z
LAST-MODIFIED:20250519T031107Z
UID:10000875-1732177800-1732186800@theneighborhoodcenterallentown.com
SUMMARY:Early Learners Program
DESCRIPTION:The Early Learners\, Pre-K Program is designed to prepare 4-year-olds for kindergarten. This program focuses on helping children in the pre-kindergarten age group develop foundational skills necessary for success in kindergarten\, including writing and recognizing shapes\, colors\, and letters.
URL:https://theneighborhoodcenterallentown.com/event/early-learners-program/2024-11-21/
LOCATION:The Neighborhood Center\, 344 N. 7th St.\, Allentown\, PA\, 18102\, United States
CATEGORIES:Early Learners
END:VEVENT
BEGIN:VEVENT
DTSTART;TZID=America/New_York:20241121T173000
DTEND;TZID=America/New_York:20241121T190000
DTSTAMP:20260420T193246
CREATED:20250409T032600Z
LAST-MODIFIED:20250424T032630Z
UID:10001018-1732210200-1732215600@theneighborhoodcenterallentown.com
SUMMARY:Teen Program
DESCRIPTION:This program is available year-round for children and pre-teens in 6th grade and higher. We expect that their academic performance will improve through activities such as journaling\, engaging in conversations with special guest speakers\, and participating in an art program. Additionally\, participants will take part in a healthy living initiative by helping to maintain a garden and joining a cooking class.
URL:https://theneighborhoodcenterallentown.com/event/teen-program/2024-11-21/
LOCATION:The Neighborhood Center\, 344 N. 7th St.\, Allentown\, PA\, 18102\, United States
CATEGORIES:Teen Program
END:VEVENT
BEGIN:VEVENT
DTSTART;TZID=America/New_York:20241122T173000
DTEND;TZID=America/New_York:20241122T190000
DTSTAMP:20260420T193246
CREATED:20250409T032600Z
LAST-MODIFIED:20250424T032630Z
UID:10001019-1732296600-1732302000@theneighborhoodcenterallentown.com
SUMMARY:Teen Program
DESCRIPTION:This program is available year-round for children and pre-teens in 6th grade and higher. We expect that their academic performance will improve through activities such as journaling\, engaging in conversations with special guest speakers\, and participating in an art program. Additionally\, participants will take part in a healthy living initiative by helping to maintain a garden and joining a cooking class.
URL:https://theneighborhoodcenterallentown.com/event/teen-program/2024-11-22/
LOCATION:The Neighborhood Center\, 344 N. 7th St.\, Allentown\, PA\, 18102\, United States
CATEGORIES:Teen Program
END:VEVENT
BEGIN:VEVENT
DTSTART;TZID=America/New_York:20241125T083000
DTEND;TZID=America/New_York:20241125T110000
DTSTAMP:20260420T193246
CREATED:20250409T024149Z
LAST-MODIFIED:20250519T031107Z
UID:10000876-1732523400-1732532400@theneighborhoodcenterallentown.com
SUMMARY:Early Learners Program
DESCRIPTION:The Early Learners\, Pre-K Program is designed to prepare 4-year-olds for kindergarten. This program focuses on helping children in the pre-kindergarten age group develop foundational skills necessary for success in kindergarten\, including writing and recognizing shapes\, colors\, and letters.
URL:https://theneighborhoodcenterallentown.com/event/early-learners-program/2024-11-25/
LOCATION:The Neighborhood Center\, 344 N. 7th St.\, Allentown\, PA\, 18102\, United States
CATEGORIES:Early Learners
END:VEVENT
BEGIN:VEVENT
DTSTART;TZID=America/New_York:20241126T083000
DTEND;TZID=America/New_York:20241126T110000
DTSTAMP:20260420T193246
CREATED:20250409T024149Z
LAST-MODIFIED:20250519T031107Z
UID:10000877-1732609800-1732618800@theneighborhoodcenterallentown.com
SUMMARY:Early Learners Program
DESCRIPTION:The Early Learners\, Pre-K Program is designed to prepare 4-year-olds for kindergarten. This program focuses on helping children in the pre-kindergarten age group develop foundational skills necessary for success in kindergarten\, including writing and recognizing shapes\, colors\, and letters.
URL:https://theneighborhoodcenterallentown.com/event/early-learners-program/2024-11-26/
LOCATION:The Neighborhood Center\, 344 N. 7th St.\, Allentown\, PA\, 18102\, United States
CATEGORIES:Early Learners
END:VEVENT
BEGIN:VEVENT
DTSTART;TZID=America/New_York:20241127T083000
DTEND;TZID=America/New_York:20241127T110000
DTSTAMP:20260420T193246
CREATED:20250409T024149Z
LAST-MODIFIED:20250519T031107Z
UID:10000878-1732696200-1732705200@theneighborhoodcenterallentown.com
SUMMARY:Early Learners Program
DESCRIPTION:The Early Learners\, Pre-K Program is designed to prepare 4-year-olds for kindergarten. This program focuses on helping children in the pre-kindergarten age group develop foundational skills necessary for success in kindergarten\, including writing and recognizing shapes\, colors\, and letters.
URL:https://theneighborhoodcenterallentown.com/event/early-learners-program/2024-11-27/
LOCATION:The Neighborhood Center\, 344 N. 7th St.\, Allentown\, PA\, 18102\, United States
CATEGORIES:Early Learners
END:VEVENT
BEGIN:VEVENT
DTSTART;TZID=America/New_York:20241127T173000
DTEND;TZID=America/New_York:20241127T190000
DTSTAMP:20260420T193246
CREATED:20250409T032600Z
LAST-MODIFIED:20250424T032630Z
UID:10001020-1732728600-1732734000@theneighborhoodcenterallentown.com
SUMMARY:Teen Program
DESCRIPTION:This program is available year-round for children and pre-teens in 6th grade and higher. We expect that their academic performance will improve through activities such as journaling\, engaging in conversations with special guest speakers\, and participating in an art program. Additionally\, participants will take part in a healthy living initiative by helping to maintain a garden and joining a cooking class.
URL:https://theneighborhoodcenterallentown.com/event/teen-program/2024-11-27/
LOCATION:The Neighborhood Center\, 344 N. 7th St.\, Allentown\, PA\, 18102\, United States
CATEGORIES:Teen Program
END:VEVENT
BEGIN:VEVENT
DTSTART;TZID=America/New_York:20241128T083000
DTEND;TZID=America/New_York:20241128T110000
DTSTAMP:20260420T193246
CREATED:20250409T024149Z
LAST-MODIFIED:20250519T031107Z
UID:10000879-1732782600-1732791600@theneighborhoodcenterallentown.com
SUMMARY:Early Learners Program
DESCRIPTION:The Early Learners\, Pre-K Program is designed to prepare 4-year-olds for kindergarten. This program focuses on helping children in the pre-kindergarten age group develop foundational skills necessary for success in kindergarten\, including writing and recognizing shapes\, colors\, and letters.
URL:https://theneighborhoodcenterallentown.com/event/early-learners-program/2024-11-28/
LOCATION:The Neighborhood Center\, 344 N. 7th St.\, Allentown\, PA\, 18102\, United States
CATEGORIES:Early Learners
END:VEVENT
BEGIN:VEVENT
DTSTART;TZID=America/New_York:20241128T173000
DTEND;TZID=America/New_York:20241128T190000
DTSTAMP:20260420T193246
CREATED:20250409T032600Z
LAST-MODIFIED:20250424T032630Z
UID:10001021-1732815000-1732820400@theneighborhoodcenterallentown.com
SUMMARY:Teen Program
DESCRIPTION:This program is available year-round for children and pre-teens in 6th grade and higher. We expect that their academic performance will improve through activities such as journaling\, engaging in conversations with special guest speakers\, and participating in an art program. Additionally\, participants will take part in a healthy living initiative by helping to maintain a garden and joining a cooking class.
URL:https://theneighborhoodcenterallentown.com/event/teen-program/2024-11-28/
LOCATION:The Neighborhood Center\, 344 N. 7th St.\, Allentown\, PA\, 18102\, United States
CATEGORIES:Teen Program
END:VEVENT
BEGIN:VEVENT
DTSTART;TZID=America/New_York:20241129T173000
DTEND;TZID=America/New_York:20241129T190000
DTSTAMP:20260420T193246
CREATED:20250409T032600Z
LAST-MODIFIED:20250424T032630Z
UID:10001022-1732901400-1732906800@theneighborhoodcenterallentown.com
SUMMARY:Teen Program
DESCRIPTION:This program is available year-round for children and pre-teens in 6th grade and higher. We expect that their academic performance will improve through activities such as journaling\, engaging in conversations with special guest speakers\, and participating in an art program. Additionally\, participants will take part in a healthy living initiative by helping to maintain a garden and joining a cooking class.
URL:https://theneighborhoodcenterallentown.com/event/teen-program/2024-11-29/
LOCATION:The Neighborhood Center\, 344 N. 7th St.\, Allentown\, PA\, 18102\, United States
CATEGORIES:Teen Program
END:VEVENT
END:VCALENDAR