BEGIN:VCALENDAR
VERSION:2.0
PRODID:-//The Neighborhood Center - ECPv6.15.20//NONSGML v1.0//EN
CALSCALE:GREGORIAN
METHOD:PUBLISH
X-ORIGINAL-URL:https://theneighborhoodcenterallentown.com
X-WR-CALDESC:Events for The Neighborhood Center
REFRESH-INTERVAL;VALUE=DURATION:PT1H
X-Robots-Tag:noindex
X-PUBLISHED-TTL:PT1H
BEGIN:VTIMEZONE
TZID:America/New_York
BEGIN:DAYLIGHT
TZOFFSETFROM:-0500
TZOFFSETTO:-0400
TZNAME:EDT
DTSTART:20230312T070000
END:DAYLIGHT
BEGIN:STANDARD
TZOFFSETFROM:-0400
TZOFFSETTO:-0500
TZNAME:EST
DTSTART:20231105T060000
END:STANDARD
BEGIN:DAYLIGHT
TZOFFSETFROM:-0500
TZOFFSETTO:-0400
TZNAME:EDT
DTSTART:20240310T070000
END:DAYLIGHT
BEGIN:STANDARD
TZOFFSETFROM:-0400
TZOFFSETTO:-0500
TZNAME:EST
DTSTART:20241103T060000
END:STANDARD
BEGIN:DAYLIGHT
TZOFFSETFROM:-0500
TZOFFSETTO:-0400
TZNAME:EDT
DTSTART:20250309T070000
END:DAYLIGHT
BEGIN:STANDARD
TZOFFSETFROM:-0400
TZOFFSETTO:-0500
TZNAME:EST
DTSTART:20251102T060000
END:STANDARD
END:VTIMEZONE
BEGIN:VEVENT
DTSTART;TZID=America/New_York:20240902T083000
DTEND;TZID=America/New_York:20240902T110000
DTSTAMP:20260424T060421
CREATED:20250409T024149Z
LAST-MODIFIED:20250519T031107Z
UID:10000828-1725265800-1725274800@theneighborhoodcenterallentown.com
SUMMARY:Early Learners Program
DESCRIPTION:The Early Learners\, Pre-K Program is designed to prepare 4-year-olds for kindergarten. This program focuses on helping children in the pre-kindergarten age group develop foundational skills necessary for success in kindergarten\, including writing and recognizing shapes\, colors\, and letters.
URL:https://theneighborhoodcenterallentown.com/event/early-learners-program/2024-09-02/
LOCATION:The Neighborhood Center\, 344 N. 7th St.\, Allentown\, PA\, 18102\, United States
CATEGORIES:Early Learners
END:VEVENT
BEGIN:VEVENT
DTSTART;TZID=America/New_York:20240903T083000
DTEND;TZID=America/New_York:20240903T110000
DTSTAMP:20260424T060421
CREATED:20250409T024149Z
LAST-MODIFIED:20250519T031107Z
UID:10000829-1725352200-1725361200@theneighborhoodcenterallentown.com
SUMMARY:Early Learners Program
DESCRIPTION:The Early Learners\, Pre-K Program is designed to prepare 4-year-olds for kindergarten. This program focuses on helping children in the pre-kindergarten age group develop foundational skills necessary for success in kindergarten\, including writing and recognizing shapes\, colors\, and letters.
URL:https://theneighborhoodcenterallentown.com/event/early-learners-program/2024-09-03/
LOCATION:The Neighborhood Center\, 344 N. 7th St.\, Allentown\, PA\, 18102\, United States
CATEGORIES:Early Learners
END:VEVENT
BEGIN:VEVENT
DTSTART;TZID=America/New_York:20240904T083000
DTEND;TZID=America/New_York:20240904T110000
DTSTAMP:20260424T060421
CREATED:20250409T024149Z
LAST-MODIFIED:20250519T031107Z
UID:10000830-1725438600-1725447600@theneighborhoodcenterallentown.com
SUMMARY:Early Learners Program
DESCRIPTION:The Early Learners\, Pre-K Program is designed to prepare 4-year-olds for kindergarten. This program focuses on helping children in the pre-kindergarten age group develop foundational skills necessary for success in kindergarten\, including writing and recognizing shapes\, colors\, and letters.
URL:https://theneighborhoodcenterallentown.com/event/early-learners-program/2024-09-04/
LOCATION:The Neighborhood Center\, 344 N. 7th St.\, Allentown\, PA\, 18102\, United States
CATEGORIES:Early Learners
END:VEVENT
BEGIN:VEVENT
DTSTART;TZID=America/New_York:20240904T173000
DTEND;TZID=America/New_York:20240904T190000
DTSTAMP:20260424T060421
CREATED:20250409T032600Z
LAST-MODIFIED:20250424T032630Z
UID:10000984-1725471000-1725476400@theneighborhoodcenterallentown.com
SUMMARY:Teen Program
DESCRIPTION:This program is available year-round for children and pre-teens in 6th grade and higher. We expect that their academic performance will improve through activities such as journaling\, engaging in conversations with special guest speakers\, and participating in an art program. Additionally\, participants will take part in a healthy living initiative by helping to maintain a garden and joining a cooking class.
URL:https://theneighborhoodcenterallentown.com/event/teen-program/2024-09-04/
LOCATION:The Neighborhood Center\, 344 N. 7th St.\, Allentown\, PA\, 18102\, United States
CATEGORIES:Teen Program
END:VEVENT
BEGIN:VEVENT
DTSTART;TZID=America/New_York:20240905T083000
DTEND;TZID=America/New_York:20240905T110000
DTSTAMP:20260424T060421
CREATED:20250409T024149Z
LAST-MODIFIED:20250519T031107Z
UID:10000831-1725525000-1725534000@theneighborhoodcenterallentown.com
SUMMARY:Early Learners Program
DESCRIPTION:The Early Learners\, Pre-K Program is designed to prepare 4-year-olds for kindergarten. This program focuses on helping children in the pre-kindergarten age group develop foundational skills necessary for success in kindergarten\, including writing and recognizing shapes\, colors\, and letters.
URL:https://theneighborhoodcenterallentown.com/event/early-learners-program/2024-09-05/
LOCATION:The Neighborhood Center\, 344 N. 7th St.\, Allentown\, PA\, 18102\, United States
CATEGORIES:Early Learners
END:VEVENT
BEGIN:VEVENT
DTSTART;TZID=America/New_York:20240905T173000
DTEND;TZID=America/New_York:20240905T190000
DTSTAMP:20260424T060421
CREATED:20250409T032600Z
LAST-MODIFIED:20250424T032630Z
UID:10000985-1725557400-1725562800@theneighborhoodcenterallentown.com
SUMMARY:Teen Program
DESCRIPTION:This program is available year-round for children and pre-teens in 6th grade and higher. We expect that their academic performance will improve through activities such as journaling\, engaging in conversations with special guest speakers\, and participating in an art program. Additionally\, participants will take part in a healthy living initiative by helping to maintain a garden and joining a cooking class.
URL:https://theneighborhoodcenterallentown.com/event/teen-program/2024-09-05/
LOCATION:The Neighborhood Center\, 344 N. 7th St.\, Allentown\, PA\, 18102\, United States
CATEGORIES:Teen Program
END:VEVENT
BEGIN:VEVENT
DTSTART;TZID=America/New_York:20240906T173000
DTEND;TZID=America/New_York:20240906T190000
DTSTAMP:20260424T060421
CREATED:20250409T032600Z
LAST-MODIFIED:20250424T032630Z
UID:10000986-1725643800-1725649200@theneighborhoodcenterallentown.com
SUMMARY:Teen Program
DESCRIPTION:This program is available year-round for children and pre-teens in 6th grade and higher. We expect that their academic performance will improve through activities such as journaling\, engaging in conversations with special guest speakers\, and participating in an art program. Additionally\, participants will take part in a healthy living initiative by helping to maintain a garden and joining a cooking class.
URL:https://theneighborhoodcenterallentown.com/event/teen-program/2024-09-06/
LOCATION:The Neighborhood Center\, 344 N. 7th St.\, Allentown\, PA\, 18102\, United States
CATEGORIES:Teen Program
END:VEVENT
BEGIN:VEVENT
DTSTART;TZID=America/New_York:20240909T083000
DTEND;TZID=America/New_York:20240909T110000
DTSTAMP:20260424T060421
CREATED:20250409T024149Z
LAST-MODIFIED:20250519T031107Z
UID:10000832-1725870600-1725879600@theneighborhoodcenterallentown.com
SUMMARY:Early Learners Program
DESCRIPTION:The Early Learners\, Pre-K Program is designed to prepare 4-year-olds for kindergarten. This program focuses on helping children in the pre-kindergarten age group develop foundational skills necessary for success in kindergarten\, including writing and recognizing shapes\, colors\, and letters.
URL:https://theneighborhoodcenterallentown.com/event/early-learners-program/2024-09-09/
LOCATION:The Neighborhood Center\, 344 N. 7th St.\, Allentown\, PA\, 18102\, United States
CATEGORIES:Early Learners
END:VEVENT
BEGIN:VEVENT
DTSTART;TZID=America/New_York:20240910T083000
DTEND;TZID=America/New_York:20240910T110000
DTSTAMP:20260424T060421
CREATED:20250409T024149Z
LAST-MODIFIED:20250519T031107Z
UID:10000833-1725957000-1725966000@theneighborhoodcenterallentown.com
SUMMARY:Early Learners Program
DESCRIPTION:The Early Learners\, Pre-K Program is designed to prepare 4-year-olds for kindergarten. This program focuses on helping children in the pre-kindergarten age group develop foundational skills necessary for success in kindergarten\, including writing and recognizing shapes\, colors\, and letters.
URL:https://theneighborhoodcenterallentown.com/event/early-learners-program/2024-09-10/
LOCATION:The Neighborhood Center\, 344 N. 7th St.\, Allentown\, PA\, 18102\, United States
CATEGORIES:Early Learners
END:VEVENT
BEGIN:VEVENT
DTSTART;TZID=America/New_York:20240911T083000
DTEND;TZID=America/New_York:20240911T110000
DTSTAMP:20260424T060421
CREATED:20250409T024149Z
LAST-MODIFIED:20250519T031107Z
UID:10000834-1726043400-1726052400@theneighborhoodcenterallentown.com
SUMMARY:Early Learners Program
DESCRIPTION:The Early Learners\, Pre-K Program is designed to prepare 4-year-olds for kindergarten. This program focuses on helping children in the pre-kindergarten age group develop foundational skills necessary for success in kindergarten\, including writing and recognizing shapes\, colors\, and letters.
URL:https://theneighborhoodcenterallentown.com/event/early-learners-program/2024-09-11/
LOCATION:The Neighborhood Center\, 344 N. 7th St.\, Allentown\, PA\, 18102\, United States
CATEGORIES:Early Learners
END:VEVENT
BEGIN:VEVENT
DTSTART;TZID=America/New_York:20240911T173000
DTEND;TZID=America/New_York:20240911T190000
DTSTAMP:20260424T060421
CREATED:20250409T032600Z
LAST-MODIFIED:20250424T032630Z
UID:10000987-1726075800-1726081200@theneighborhoodcenterallentown.com
SUMMARY:Teen Program
DESCRIPTION:This program is available year-round for children and pre-teens in 6th grade and higher. We expect that their academic performance will improve through activities such as journaling\, engaging in conversations with special guest speakers\, and participating in an art program. Additionally\, participants will take part in a healthy living initiative by helping to maintain a garden and joining a cooking class.
URL:https://theneighborhoodcenterallentown.com/event/teen-program/2024-09-11/
LOCATION:The Neighborhood Center\, 344 N. 7th St.\, Allentown\, PA\, 18102\, United States
CATEGORIES:Teen Program
END:VEVENT
BEGIN:VEVENT
DTSTART;TZID=America/New_York:20240912T083000
DTEND;TZID=America/New_York:20240912T110000
DTSTAMP:20260424T060421
CREATED:20250409T024149Z
LAST-MODIFIED:20250519T031107Z
UID:10000835-1726129800-1726138800@theneighborhoodcenterallentown.com
SUMMARY:Early Learners Program
DESCRIPTION:The Early Learners\, Pre-K Program is designed to prepare 4-year-olds for kindergarten. This program focuses on helping children in the pre-kindergarten age group develop foundational skills necessary for success in kindergarten\, including writing and recognizing shapes\, colors\, and letters.
URL:https://theneighborhoodcenterallentown.com/event/early-learners-program/2024-09-12/
LOCATION:The Neighborhood Center\, 344 N. 7th St.\, Allentown\, PA\, 18102\, United States
CATEGORIES:Early Learners
END:VEVENT
BEGIN:VEVENT
DTSTART;TZID=America/New_York:20240912T173000
DTEND;TZID=America/New_York:20240912T190000
DTSTAMP:20260424T060421
CREATED:20250409T032600Z
LAST-MODIFIED:20250424T032630Z
UID:10000988-1726162200-1726167600@theneighborhoodcenterallentown.com
SUMMARY:Teen Program
DESCRIPTION:This program is available year-round for children and pre-teens in 6th grade and higher. We expect that their academic performance will improve through activities such as journaling\, engaging in conversations with special guest speakers\, and participating in an art program. Additionally\, participants will take part in a healthy living initiative by helping to maintain a garden and joining a cooking class.
URL:https://theneighborhoodcenterallentown.com/event/teen-program/2024-09-12/
LOCATION:The Neighborhood Center\, 344 N. 7th St.\, Allentown\, PA\, 18102\, United States
CATEGORIES:Teen Program
END:VEVENT
BEGIN:VEVENT
DTSTART;TZID=America/New_York:20240913T173000
DTEND;TZID=America/New_York:20240913T190000
DTSTAMP:20260424T060421
CREATED:20250409T032600Z
LAST-MODIFIED:20250424T032630Z
UID:10000989-1726248600-1726254000@theneighborhoodcenterallentown.com
SUMMARY:Teen Program
DESCRIPTION:This program is available year-round for children and pre-teens in 6th grade and higher. We expect that their academic performance will improve through activities such as journaling\, engaging in conversations with special guest speakers\, and participating in an art program. Additionally\, participants will take part in a healthy living initiative by helping to maintain a garden and joining a cooking class.
URL:https://theneighborhoodcenterallentown.com/event/teen-program/2024-09-13/
LOCATION:The Neighborhood Center\, 344 N. 7th St.\, Allentown\, PA\, 18102\, United States
CATEGORIES:Teen Program
END:VEVENT
BEGIN:VEVENT
DTSTART;TZID=America/New_York:20240916T083000
DTEND;TZID=America/New_York:20240916T110000
DTSTAMP:20260424T060421
CREATED:20250409T024149Z
LAST-MODIFIED:20250519T031107Z
UID:10000836-1726475400-1726484400@theneighborhoodcenterallentown.com
SUMMARY:Early Learners Program
DESCRIPTION:The Early Learners\, Pre-K Program is designed to prepare 4-year-olds for kindergarten. This program focuses on helping children in the pre-kindergarten age group develop foundational skills necessary for success in kindergarten\, including writing and recognizing shapes\, colors\, and letters.
URL:https://theneighborhoodcenterallentown.com/event/early-learners-program/2024-09-16/
LOCATION:The Neighborhood Center\, 344 N. 7th St.\, Allentown\, PA\, 18102\, United States
CATEGORIES:Early Learners
END:VEVENT
BEGIN:VEVENT
DTSTART;TZID=America/New_York:20240917T083000
DTEND;TZID=America/New_York:20240917T110000
DTSTAMP:20260424T060421
CREATED:20250409T024149Z
LAST-MODIFIED:20250519T031107Z
UID:10000837-1726561800-1726570800@theneighborhoodcenterallentown.com
SUMMARY:Early Learners Program
DESCRIPTION:The Early Learners\, Pre-K Program is designed to prepare 4-year-olds for kindergarten. This program focuses on helping children in the pre-kindergarten age group develop foundational skills necessary for success in kindergarten\, including writing and recognizing shapes\, colors\, and letters.
URL:https://theneighborhoodcenterallentown.com/event/early-learners-program/2024-09-17/
LOCATION:The Neighborhood Center\, 344 N. 7th St.\, Allentown\, PA\, 18102\, United States
CATEGORIES:Early Learners
END:VEVENT
BEGIN:VEVENT
DTSTART;TZID=America/New_York:20240918T083000
DTEND;TZID=America/New_York:20240918T110000
DTSTAMP:20260424T060421
CREATED:20250409T024149Z
LAST-MODIFIED:20250519T031107Z
UID:10000838-1726648200-1726657200@theneighborhoodcenterallentown.com
SUMMARY:Early Learners Program
DESCRIPTION:The Early Learners\, Pre-K Program is designed to prepare 4-year-olds for kindergarten. This program focuses on helping children in the pre-kindergarten age group develop foundational skills necessary for success in kindergarten\, including writing and recognizing shapes\, colors\, and letters.
URL:https://theneighborhoodcenterallentown.com/event/early-learners-program/2024-09-18/
LOCATION:The Neighborhood Center\, 344 N. 7th St.\, Allentown\, PA\, 18102\, United States
CATEGORIES:Early Learners
END:VEVENT
BEGIN:VEVENT
DTSTART;TZID=America/New_York:20240918T173000
DTEND;TZID=America/New_York:20240918T190000
DTSTAMP:20260424T060421
CREATED:20250409T032600Z
LAST-MODIFIED:20250424T032630Z
UID:10000990-1726680600-1726686000@theneighborhoodcenterallentown.com
SUMMARY:Teen Program
DESCRIPTION:This program is available year-round for children and pre-teens in 6th grade and higher. We expect that their academic performance will improve through activities such as journaling\, engaging in conversations with special guest speakers\, and participating in an art program. Additionally\, participants will take part in a healthy living initiative by helping to maintain a garden and joining a cooking class.
URL:https://theneighborhoodcenterallentown.com/event/teen-program/2024-09-18/
LOCATION:The Neighborhood Center\, 344 N. 7th St.\, Allentown\, PA\, 18102\, United States
CATEGORIES:Teen Program
END:VEVENT
BEGIN:VEVENT
DTSTART;TZID=America/New_York:20240919T083000
DTEND;TZID=America/New_York:20240919T110000
DTSTAMP:20260424T060421
CREATED:20250409T024149Z
LAST-MODIFIED:20250519T031107Z
UID:10000839-1726734600-1726743600@theneighborhoodcenterallentown.com
SUMMARY:Early Learners Program
DESCRIPTION:The Early Learners\, Pre-K Program is designed to prepare 4-year-olds for kindergarten. This program focuses on helping children in the pre-kindergarten age group develop foundational skills necessary for success in kindergarten\, including writing and recognizing shapes\, colors\, and letters.
URL:https://theneighborhoodcenterallentown.com/event/early-learners-program/2024-09-19/
LOCATION:The Neighborhood Center\, 344 N. 7th St.\, Allentown\, PA\, 18102\, United States
CATEGORIES:Early Learners
END:VEVENT
BEGIN:VEVENT
DTSTART;TZID=America/New_York:20240919T173000
DTEND;TZID=America/New_York:20240919T190000
DTSTAMP:20260424T060421
CREATED:20250409T032600Z
LAST-MODIFIED:20250424T032630Z
UID:10000991-1726767000-1726772400@theneighborhoodcenterallentown.com
SUMMARY:Teen Program
DESCRIPTION:This program is available year-round for children and pre-teens in 6th grade and higher. We expect that their academic performance will improve through activities such as journaling\, engaging in conversations with special guest speakers\, and participating in an art program. Additionally\, participants will take part in a healthy living initiative by helping to maintain a garden and joining a cooking class.
URL:https://theneighborhoodcenterallentown.com/event/teen-program/2024-09-19/
LOCATION:The Neighborhood Center\, 344 N. 7th St.\, Allentown\, PA\, 18102\, United States
CATEGORIES:Teen Program
END:VEVENT
BEGIN:VEVENT
DTSTART;TZID=America/New_York:20240920T173000
DTEND;TZID=America/New_York:20240920T190000
DTSTAMP:20260424T060421
CREATED:20250409T032600Z
LAST-MODIFIED:20250424T032630Z
UID:10000992-1726853400-1726858800@theneighborhoodcenterallentown.com
SUMMARY:Teen Program
DESCRIPTION:This program is available year-round for children and pre-teens in 6th grade and higher. We expect that their academic performance will improve through activities such as journaling\, engaging in conversations with special guest speakers\, and participating in an art program. Additionally\, participants will take part in a healthy living initiative by helping to maintain a garden and joining a cooking class.
URL:https://theneighborhoodcenterallentown.com/event/teen-program/2024-09-20/
LOCATION:The Neighborhood Center\, 344 N. 7th St.\, Allentown\, PA\, 18102\, United States
CATEGORIES:Teen Program
END:VEVENT
BEGIN:VEVENT
DTSTART;TZID=America/New_York:20240923T083000
DTEND;TZID=America/New_York:20240923T110000
DTSTAMP:20260424T060421
CREATED:20250409T024149Z
LAST-MODIFIED:20250519T031107Z
UID:10000840-1727080200-1727089200@theneighborhoodcenterallentown.com
SUMMARY:Early Learners Program
DESCRIPTION:The Early Learners\, Pre-K Program is designed to prepare 4-year-olds for kindergarten. This program focuses on helping children in the pre-kindergarten age group develop foundational skills necessary for success in kindergarten\, including writing and recognizing shapes\, colors\, and letters.
URL:https://theneighborhoodcenterallentown.com/event/early-learners-program/2024-09-23/
LOCATION:The Neighborhood Center\, 344 N. 7th St.\, Allentown\, PA\, 18102\, United States
CATEGORIES:Early Learners
END:VEVENT
BEGIN:VEVENT
DTSTART;TZID=America/New_York:20240924T083000
DTEND;TZID=America/New_York:20240924T110000
DTSTAMP:20260424T060421
CREATED:20250409T024149Z
LAST-MODIFIED:20250519T031107Z
UID:10000841-1727166600-1727175600@theneighborhoodcenterallentown.com
SUMMARY:Early Learners Program
DESCRIPTION:The Early Learners\, Pre-K Program is designed to prepare 4-year-olds for kindergarten. This program focuses on helping children in the pre-kindergarten age group develop foundational skills necessary for success in kindergarten\, including writing and recognizing shapes\, colors\, and letters.
URL:https://theneighborhoodcenterallentown.com/event/early-learners-program/2024-09-24/
LOCATION:The Neighborhood Center\, 344 N. 7th St.\, Allentown\, PA\, 18102\, United States
CATEGORIES:Early Learners
END:VEVENT
BEGIN:VEVENT
DTSTART;TZID=America/New_York:20240925T083000
DTEND;TZID=America/New_York:20240925T110000
DTSTAMP:20260424T060421
CREATED:20250409T024149Z
LAST-MODIFIED:20250519T031107Z
UID:10000842-1727253000-1727262000@theneighborhoodcenterallentown.com
SUMMARY:Early Learners Program
DESCRIPTION:The Early Learners\, Pre-K Program is designed to prepare 4-year-olds for kindergarten. This program focuses on helping children in the pre-kindergarten age group develop foundational skills necessary for success in kindergarten\, including writing and recognizing shapes\, colors\, and letters.
URL:https://theneighborhoodcenterallentown.com/event/early-learners-program/2024-09-25/
LOCATION:The Neighborhood Center\, 344 N. 7th St.\, Allentown\, PA\, 18102\, United States
CATEGORIES:Early Learners
END:VEVENT
BEGIN:VEVENT
DTSTART;TZID=America/New_York:20240925T173000
DTEND;TZID=America/New_York:20240925T190000
DTSTAMP:20260424T060421
CREATED:20250409T032600Z
LAST-MODIFIED:20250424T032630Z
UID:10000993-1727285400-1727290800@theneighborhoodcenterallentown.com
SUMMARY:Teen Program
DESCRIPTION:This program is available year-round for children and pre-teens in 6th grade and higher. We expect that their academic performance will improve through activities such as journaling\, engaging in conversations with special guest speakers\, and participating in an art program. Additionally\, participants will take part in a healthy living initiative by helping to maintain a garden and joining a cooking class.
URL:https://theneighborhoodcenterallentown.com/event/teen-program/2024-09-25/
LOCATION:The Neighborhood Center\, 344 N. 7th St.\, Allentown\, PA\, 18102\, United States
CATEGORIES:Teen Program
END:VEVENT
BEGIN:VEVENT
DTSTART;TZID=America/New_York:20240926T083000
DTEND;TZID=America/New_York:20240926T110000
DTSTAMP:20260424T060421
CREATED:20250409T024149Z
LAST-MODIFIED:20250519T031107Z
UID:10000843-1727339400-1727348400@theneighborhoodcenterallentown.com
SUMMARY:Early Learners Program
DESCRIPTION:The Early Learners\, Pre-K Program is designed to prepare 4-year-olds for kindergarten. This program focuses on helping children in the pre-kindergarten age group develop foundational skills necessary for success in kindergarten\, including writing and recognizing shapes\, colors\, and letters.
URL:https://theneighborhoodcenterallentown.com/event/early-learners-program/2024-09-26/
LOCATION:The Neighborhood Center\, 344 N. 7th St.\, Allentown\, PA\, 18102\, United States
CATEGORIES:Early Learners
END:VEVENT
BEGIN:VEVENT
DTSTART;TZID=America/New_York:20240926T173000
DTEND;TZID=America/New_York:20240926T190000
DTSTAMP:20260424T060421
CREATED:20250409T032600Z
LAST-MODIFIED:20250424T032630Z
UID:10000994-1727371800-1727377200@theneighborhoodcenterallentown.com
SUMMARY:Teen Program
DESCRIPTION:This program is available year-round for children and pre-teens in 6th grade and higher. We expect that their academic performance will improve through activities such as journaling\, engaging in conversations with special guest speakers\, and participating in an art program. Additionally\, participants will take part in a healthy living initiative by helping to maintain a garden and joining a cooking class.
URL:https://theneighborhoodcenterallentown.com/event/teen-program/2024-09-26/
LOCATION:The Neighborhood Center\, 344 N. 7th St.\, Allentown\, PA\, 18102\, United States
CATEGORIES:Teen Program
END:VEVENT
BEGIN:VEVENT
DTSTART;TZID=America/New_York:20240927T173000
DTEND;TZID=America/New_York:20240927T190000
DTSTAMP:20260424T060421
CREATED:20250409T032600Z
LAST-MODIFIED:20250424T032630Z
UID:10000995-1727458200-1727463600@theneighborhoodcenterallentown.com
SUMMARY:Teen Program
DESCRIPTION:This program is available year-round for children and pre-teens in 6th grade and higher. We expect that their academic performance will improve through activities such as journaling\, engaging in conversations with special guest speakers\, and participating in an art program. Additionally\, participants will take part in a healthy living initiative by helping to maintain a garden and joining a cooking class.
URL:https://theneighborhoodcenterallentown.com/event/teen-program/2024-09-27/
LOCATION:The Neighborhood Center\, 344 N. 7th St.\, Allentown\, PA\, 18102\, United States
CATEGORIES:Teen Program
END:VEVENT
BEGIN:VEVENT
DTSTART;TZID=America/New_York:20240930T083000
DTEND;TZID=America/New_York:20240930T110000
DTSTAMP:20260424T060421
CREATED:20250409T024149Z
LAST-MODIFIED:20250519T031107Z
UID:10000844-1727685000-1727694000@theneighborhoodcenterallentown.com
SUMMARY:Early Learners Program
DESCRIPTION:The Early Learners\, Pre-K Program is designed to prepare 4-year-olds for kindergarten. This program focuses on helping children in the pre-kindergarten age group develop foundational skills necessary for success in kindergarten\, including writing and recognizing shapes\, colors\, and letters.
URL:https://theneighborhoodcenterallentown.com/event/early-learners-program/2024-09-30/
LOCATION:The Neighborhood Center\, 344 N. 7th St.\, Allentown\, PA\, 18102\, United States
CATEGORIES:Early Learners
END:VEVENT
END:VCALENDAR